BEGIN:VCALENDAR
VERSION:2.0
PRODID:-//Luke AFB - ECPv6.15.20//NONSGML v1.0//EN
CALSCALE:GREGORIAN
METHOD:PUBLISH
X-WR-CALNAME:Luke AFB
X-ORIGINAL-URL:https://56fss.com
X-WR-CALDESC:Events for Luke AFB
REFRESH-INTERVAL;VALUE=DURATION:PT1H
X-Robots-Tag:noindex
X-PUBLISHED-TTL:PT1H
BEGIN:VTIMEZONE
TZID:UTC
BEGIN:STANDARD
TZOFFSETFROM:+0000
TZOFFSETTO:+0000
TZNAME:UTC
DTSTART:20250101T000000
END:STANDARD
END:VTIMEZONE
BEGIN:VEVENT
DTSTART;TZID=UTC:20260526T060000
DTEND;TZID=UTC:20260731T173000
DTSTAMP:20260424T231811
CREATED:20251211T082107Z
LAST-MODIFIED:20260419T163922Z
UID:10020296-1779775200-1785519000@56fss.com
SUMMARY:SAC: Summer Break Camp
DESCRIPTION:Date(s): May 26 – 31 July 2026 \nTime: 0600 – 1730 \nLocation: Youth Programs \nDetails: Ages 5K-12. \nCamps include arts & crafts\, computers\, fitness\, STEM\, dramatic and outdoor play\, field trips\, swimming\, and much more\nBreakfast\, lunch\, and a snack are included\nCost is based on total family income\nSign up for care by the Wednesday before camps\nNew customers register at: militarychildcare.com\nExisting customers sign up online at: parent.afcyp.com\nCall the Youth Programs to set up your CYPBMS account.
URL:https://56fss.com/event/sac-summer-break-camp-3/2026-05-26/
LOCATION:Youth Programs\, Luke Air Force Base Youth Center 50152006\, Glendale\, AZ\, United States
CATEGORIES:Family
END:VEVENT
BEGIN:VEVENT
DTSTART;TZID=UTC:20260731T063000
DTEND;TZID=UTC:20260731T173000
DTSTAMP:20260424T231811
CREATED:20251211T082107Z
LAST-MODIFIED:20260419T163922Z
UID:10019730-1785479400-1785519000@56fss.com
SUMMARY:SAC: Summer Break Camp
DESCRIPTION:Date(s): May 26 – 31 July 2026 \nTime: 0600 – 1730 \nLocation: Youth Programs \nDetails: Ages 5K-12. \nCamps include arts & crafts\, computers\, fitness\, STEM\, dramatic and outdoor play\, field trips\, swimming\, and much more\nBreakfast\, lunch\, and a snack are included\nCost is based on total family income\nSign up for care by the Wednesday before camps\nNew customers register at: militarychildcare.com\nExisting customers sign up online at: parent.afcyp.com\nCall the Youth Programs to set up your CYPBMS account.
URL:https://56fss.com/event/sac-summer-break-camp-3/2026-07-31/
LOCATION:Youth Programs\, Luke Air Force Base Youth Center 50152006\, Glendale\, AZ\, United States
CATEGORIES:Family
END:VEVENT
END:VCALENDAR