BEGIN:VCALENDAR
VERSION:2.0
PRODID:-//Luke AFB - ECPv6.15.20//NONSGML v1.0//EN
CALSCALE:GREGORIAN
METHOD:PUBLISH
X-WR-CALNAME:Luke AFB
X-ORIGINAL-URL:https://56fss.com
X-WR-CALDESC:Events for Luke AFB
REFRESH-INTERVAL;VALUE=DURATION:PT1H
X-Robots-Tag:noindex
X-PUBLISHED-TTL:PT1H
BEGIN:VTIMEZONE
TZID:UTC
BEGIN:STANDARD
TZOFFSETFROM:+0000
TZOFFSETTO:+0000
TZNAME:UTC
DTSTART:20250101T000000
END:STANDARD
END:VTIMEZONE
BEGIN:VEVENT
DTSTART;TZID=UTC:20260521T090000
DTEND;TZID=UTC:20260521T100000
DTSTAMP:20260423T080359
CREATED:20251210T215736Z
LAST-MODIFIED:20251210T220411Z
UID:10019667-1779354000-1779357600@56fss.com
SUMMARY:Skillbridge Briefing
DESCRIPTION:Time(s): 0900 &1400 \nLocation: Briefings are held at the Education Center\, Bldg. 1150 (Blockhouse)\, 3rd floor \nDetails: The DoD SkillBridge program is an opportunity for Service members to gain valuable civilian work experience through specific industry training\,\napprenticeships\, or internships during the last 180 days of service. SkillBridge connects Service members with industry partners in real-world job experiences. \n*Dates\, time\, and room subject to change* \nYOU MUST CALL TO REGISTER for the session you would like to attend. This briefing is your first step to using this program. After this briefing\, you will then schedule a one-on-one session with a counselor. Please call (623) 856-7722/7723
URL:https://56fss.com/event/skillbridge-briefing-2/2026-05-21/1/
LOCATION:Education Center\, Education Center\, Bldg.1150 (Blockhouse)\, Room 3136
END:VEVENT
BEGIN:VEVENT
DTSTART;TZID=UTC:20260521T140000
DTEND;TZID=UTC:20260521T150000
DTSTAMP:20260423T080359
CREATED:20251210T215736Z
LAST-MODIFIED:20251210T220411Z
UID:10019668-1779372000-1779375600@56fss.com
SUMMARY:Skillbridge Briefing
DESCRIPTION:Time(s): 0900 &1400 \nLocation: Briefings are held at the Education Center\, Bldg. 1150 (Blockhouse)\, 3rd floor \nDetails: The DoD SkillBridge program is an opportunity for Service members to gain valuable civilian work experience through specific industry training\,\napprenticeships\, or internships during the last 180 days of service. SkillBridge connects Service members with industry partners in real-world job experiences. \n*Dates\, time\, and room subject to change* \nYOU MUST CALL TO REGISTER for the session you would like to attend. This briefing is your first step to using this program. After this briefing\, you will then schedule a one-on-one session with a counselor. Please call (623) 856-7722/7723
URL:https://56fss.com/event/skillbridge-briefing-2/2026-05-21/2/
LOCATION:Education Center\, Education Center\, Bldg.1150 (Blockhouse)\, Room 3136
END:VEVENT
BEGIN:VEVENT
DTSTART;TZID=UTC:20260618T090000
DTEND;TZID=UTC:20260618T100000
DTSTAMP:20260423T080359
CREATED:20251210T215736Z
LAST-MODIFIED:20251210T220411Z
UID:10019669-1781773200-1781776800@56fss.com
SUMMARY:Skillbridge Briefing
DESCRIPTION:Time(s): 0900 &1400 \nLocation: Briefings are held at the Education Center\, Bldg. 1150 (Blockhouse)\, 3rd floor \nDetails: The DoD SkillBridge program is an opportunity for Service members to gain valuable civilian work experience through specific industry training\,\napprenticeships\, or internships during the last 180 days of service. SkillBridge connects Service members with industry partners in real-world job experiences. \n*Dates\, time\, and room subject to change* \nYOU MUST CALL TO REGISTER for the session you would like to attend. This briefing is your first step to using this program. After this briefing\, you will then schedule a one-on-one session with a counselor. Please call (623) 856-7722/7723
URL:https://56fss.com/event/skillbridge-briefing-2/2026-06-18/1/
LOCATION:Education Center\, Education Center\, Bldg.1150 (Blockhouse)\, Room 3136
END:VEVENT
BEGIN:VEVENT
DTSTART;TZID=UTC:20260618T140000
DTEND;TZID=UTC:20260618T150000
DTSTAMP:20260423T080359
CREATED:20251210T215736Z
LAST-MODIFIED:20251210T220411Z
UID:10019670-1781791200-1781794800@56fss.com
SUMMARY:Skillbridge Briefing
DESCRIPTION:Time(s): 0900 &1400 \nLocation: Briefings are held at the Education Center\, Bldg. 1150 (Blockhouse)\, 3rd floor \nDetails: The DoD SkillBridge program is an opportunity for Service members to gain valuable civilian work experience through specific industry training\,\napprenticeships\, or internships during the last 180 days of service. SkillBridge connects Service members with industry partners in real-world job experiences. \n*Dates\, time\, and room subject to change* \nYOU MUST CALL TO REGISTER for the session you would like to attend. This briefing is your first step to using this program. After this briefing\, you will then schedule a one-on-one session with a counselor. Please call (623) 856-7722/7723
URL:https://56fss.com/event/skillbridge-briefing-2/2026-06-18/2/
LOCATION:Education Center\, Education Center\, Bldg.1150 (Blockhouse)\, Room 3136
END:VEVENT
BEGIN:VEVENT
DTSTART;TZID=UTC:20260723T090000
DTEND;TZID=UTC:20260723T100000
DTSTAMP:20260423T080359
CREATED:20251210T215736Z
LAST-MODIFIED:20251210T220411Z
UID:10019671-1784797200-1784800800@56fss.com
SUMMARY:Skillbridge Briefing
DESCRIPTION:Time(s): 0900 &1400 \nLocation: Briefings are held at the Education Center\, Bldg. 1150 (Blockhouse)\, 3rd floor \nDetails: The DoD SkillBridge program is an opportunity for Service members to gain valuable civilian work experience through specific industry training\,\napprenticeships\, or internships during the last 180 days of service. SkillBridge connects Service members with industry partners in real-world job experiences. \n*Dates\, time\, and room subject to change* \nYOU MUST CALL TO REGISTER for the session you would like to attend. This briefing is your first step to using this program. After this briefing\, you will then schedule a one-on-one session with a counselor. Please call (623) 856-7722/7723
URL:https://56fss.com/event/skillbridge-briefing-2/2026-07-23/1/
LOCATION:Education Center\, Education Center\, Bldg.1150 (Blockhouse)\, Room 3136
END:VEVENT
BEGIN:VEVENT
DTSTART;TZID=UTC:20260723T140000
DTEND;TZID=UTC:20260723T150000
DTSTAMP:20260423T080359
CREATED:20251210T215736Z
LAST-MODIFIED:20251210T220411Z
UID:10019672-1784815200-1784818800@56fss.com
SUMMARY:Skillbridge Briefing
DESCRIPTION:Time(s): 0900 &1400 \nLocation: Briefings are held at the Education Center\, Bldg. 1150 (Blockhouse)\, 3rd floor \nDetails: The DoD SkillBridge program is an opportunity for Service members to gain valuable civilian work experience through specific industry training\,\napprenticeships\, or internships during the last 180 days of service. SkillBridge connects Service members with industry partners in real-world job experiences. \n*Dates\, time\, and room subject to change* \nYOU MUST CALL TO REGISTER for the session you would like to attend. This briefing is your first step to using this program. After this briefing\, you will then schedule a one-on-one session with a counselor. Please call (623) 856-7722/7723
URL:https://56fss.com/event/skillbridge-briefing-2/2026-07-23/2/
LOCATION:Education Center\, Education Center\, Bldg.1150 (Blockhouse)\, Room 3136
END:VEVENT
BEGIN:VEVENT
DTSTART;TZID=UTC:20260820T090000
DTEND;TZID=UTC:20260820T100000
DTSTAMP:20260423T080359
CREATED:20251210T215736Z
LAST-MODIFIED:20251210T220411Z
UID:10019673-1787216400-1787220000@56fss.com
SUMMARY:Skillbridge Briefing
DESCRIPTION:Time(s): 0900 &1400 \nLocation: Briefings are held at the Education Center\, Bldg. 1150 (Blockhouse)\, 3rd floor \nDetails: The DoD SkillBridge program is an opportunity for Service members to gain valuable civilian work experience through specific industry training\,\napprenticeships\, or internships during the last 180 days of service. SkillBridge connects Service members with industry partners in real-world job experiences. \n*Dates\, time\, and room subject to change* \nYOU MUST CALL TO REGISTER for the session you would like to attend. This briefing is your first step to using this program. After this briefing\, you will then schedule a one-on-one session with a counselor. Please call (623) 856-7722/7723
URL:https://56fss.com/event/skillbridge-briefing-2/2026-08-20/1/
LOCATION:Education Center\, Education Center\, Bldg.1150 (Blockhouse)\, Room 3136
END:VEVENT
BEGIN:VEVENT
DTSTART;TZID=UTC:20260820T140000
DTEND;TZID=UTC:20260820T150000
DTSTAMP:20260423T080359
CREATED:20251210T215736Z
LAST-MODIFIED:20251210T220411Z
UID:10019674-1787234400-1787238000@56fss.com
SUMMARY:Skillbridge Briefing
DESCRIPTION:Time(s): 0900 &1400 \nLocation: Briefings are held at the Education Center\, Bldg. 1150 (Blockhouse)\, 3rd floor \nDetails: The DoD SkillBridge program is an opportunity for Service members to gain valuable civilian work experience through specific industry training\,\napprenticeships\, or internships during the last 180 days of service. SkillBridge connects Service members with industry partners in real-world job experiences. \n*Dates\, time\, and room subject to change* \nYOU MUST CALL TO REGISTER for the session you would like to attend. This briefing is your first step to using this program. After this briefing\, you will then schedule a one-on-one session with a counselor. Please call (623) 856-7722/7723
URL:https://56fss.com/event/skillbridge-briefing-2/2026-08-20/2/
LOCATION:Education Center\, Education Center\, Bldg.1150 (Blockhouse)\, Room 3136
END:VEVENT
BEGIN:VEVENT
DTSTART;TZID=UTC:20260917T090000
DTEND;TZID=UTC:20260917T100000
DTSTAMP:20260423T080359
CREATED:20251210T215736Z
LAST-MODIFIED:20251210T220411Z
UID:10019675-1789635600-1789639200@56fss.com
SUMMARY:Skillbridge Briefing
DESCRIPTION:Time(s): 0900 &1400 \nLocation: Briefings are held at the Education Center\, Bldg. 1150 (Blockhouse)\, 3rd floor \nDetails: The DoD SkillBridge program is an opportunity for Service members to gain valuable civilian work experience through specific industry training\,\napprenticeships\, or internships during the last 180 days of service. SkillBridge connects Service members with industry partners in real-world job experiences. \n*Dates\, time\, and room subject to change* \nYOU MUST CALL TO REGISTER for the session you would like to attend. This briefing is your first step to using this program. After this briefing\, you will then schedule a one-on-one session with a counselor. Please call (623) 856-7722/7723
URL:https://56fss.com/event/skillbridge-briefing-2/2026-09-17/1/
LOCATION:Education Center\, Education Center\, Bldg.1150 (Blockhouse)\, Room 3136
END:VEVENT
BEGIN:VEVENT
DTSTART;TZID=UTC:20260917T140000
DTEND;TZID=UTC:20260917T150000
DTSTAMP:20260423T080359
CREATED:20251210T215736Z
LAST-MODIFIED:20251210T220411Z
UID:10019676-1789653600-1789657200@56fss.com
SUMMARY:Skillbridge Briefing
DESCRIPTION:Time(s): 0900 &1400 \nLocation: Briefings are held at the Education Center\, Bldg. 1150 (Blockhouse)\, 3rd floor \nDetails: The DoD SkillBridge program is an opportunity for Service members to gain valuable civilian work experience through specific industry training\,\napprenticeships\, or internships during the last 180 days of service. SkillBridge connects Service members with industry partners in real-world job experiences. \n*Dates\, time\, and room subject to change* \nYOU MUST CALL TO REGISTER for the session you would like to attend. This briefing is your first step to using this program. After this briefing\, you will then schedule a one-on-one session with a counselor. Please call (623) 856-7722/7723
URL:https://56fss.com/event/skillbridge-briefing-2/2026-09-17/2/
LOCATION:Education Center\, Education Center\, Bldg.1150 (Blockhouse)\, Room 3136
END:VEVENT
BEGIN:VEVENT
DTSTART;TZID=UTC:20261022T090000
DTEND;TZID=UTC:20261022T100000
DTSTAMP:20260423T080359
CREATED:20251210T215736Z
LAST-MODIFIED:20251210T220411Z
UID:10019677-1792659600-1792663200@56fss.com
SUMMARY:Skillbridge Briefing
DESCRIPTION:Time(s): 0900 &1400 \nLocation: Briefings are held at the Education Center\, Bldg. 1150 (Blockhouse)\, 3rd floor \nDetails: The DoD SkillBridge program is an opportunity for Service members to gain valuable civilian work experience through specific industry training\,\napprenticeships\, or internships during the last 180 days of service. SkillBridge connects Service members with industry partners in real-world job experiences. \n*Dates\, time\, and room subject to change* \nYOU MUST CALL TO REGISTER for the session you would like to attend. This briefing is your first step to using this program. After this briefing\, you will then schedule a one-on-one session with a counselor. Please call (623) 856-7722/7723
URL:https://56fss.com/event/skillbridge-briefing-2/2026-10-22/1/
LOCATION:Education Center\, Education Center\, Bldg.1150 (Blockhouse)\, Room 3136
END:VEVENT
BEGIN:VEVENT
DTSTART;TZID=UTC:20261022T140000
DTEND;TZID=UTC:20261022T150000
DTSTAMP:20260423T080359
CREATED:20251210T215736Z
LAST-MODIFIED:20251210T220411Z
UID:10019678-1792677600-1792681200@56fss.com
SUMMARY:Skillbridge Briefing
DESCRIPTION:Time(s): 0900 &1400 \nLocation: Briefings are held at the Education Center\, Bldg. 1150 (Blockhouse)\, 3rd floor \nDetails: The DoD SkillBridge program is an opportunity for Service members to gain valuable civilian work experience through specific industry training\,\napprenticeships\, or internships during the last 180 days of service. SkillBridge connects Service members with industry partners in real-world job experiences. \n*Dates\, time\, and room subject to change* \nYOU MUST CALL TO REGISTER for the session you would like to attend. This briefing is your first step to using this program. After this briefing\, you will then schedule a one-on-one session with a counselor. Please call (623) 856-7722/7723
URL:https://56fss.com/event/skillbridge-briefing-2/2026-10-22/2/
LOCATION:Education Center\, Education Center\, Bldg.1150 (Blockhouse)\, Room 3136
END:VEVENT
BEGIN:VEVENT
DTSTART;TZID=UTC:20261119T090000
DTEND;TZID=UTC:20261119T100000
DTSTAMP:20260423T080359
CREATED:20251210T215736Z
LAST-MODIFIED:20251210T220411Z
UID:10019679-1795078800-1795082400@56fss.com
SUMMARY:Skillbridge Briefing
DESCRIPTION:Time(s): 0900 &1400 \nLocation: Briefings are held at the Education Center\, Bldg. 1150 (Blockhouse)\, 3rd floor \nDetails: The DoD SkillBridge program is an opportunity for Service members to gain valuable civilian work experience through specific industry training\,\napprenticeships\, or internships during the last 180 days of service. SkillBridge connects Service members with industry partners in real-world job experiences. \n*Dates\, time\, and room subject to change* \nYOU MUST CALL TO REGISTER for the session you would like to attend. This briefing is your first step to using this program. After this briefing\, you will then schedule a one-on-one session with a counselor. Please call (623) 856-7722/7723
URL:https://56fss.com/event/skillbridge-briefing-2/2026-11-19/1/
LOCATION:Education Center\, Education Center\, Bldg.1150 (Blockhouse)\, Room 3136
END:VEVENT
BEGIN:VEVENT
DTSTART;TZID=UTC:20261119T140000
DTEND;TZID=UTC:20261119T150000
DTSTAMP:20260423T080359
CREATED:20251210T215736Z
LAST-MODIFIED:20251210T220411Z
UID:10019680-1795096800-1795100400@56fss.com
SUMMARY:Skillbridge Briefing
DESCRIPTION:Time(s): 0900 &1400 \nLocation: Briefings are held at the Education Center\, Bldg. 1150 (Blockhouse)\, 3rd floor \nDetails: The DoD SkillBridge program is an opportunity for Service members to gain valuable civilian work experience through specific industry training\,\napprenticeships\, or internships during the last 180 days of service. SkillBridge connects Service members with industry partners in real-world job experiences. \n*Dates\, time\, and room subject to change* \nYOU MUST CALL TO REGISTER for the session you would like to attend. This briefing is your first step to using this program. After this briefing\, you will then schedule a one-on-one session with a counselor. Please call (623) 856-7722/7723
URL:https://56fss.com/event/skillbridge-briefing-2/2026-11-19/2/
LOCATION:Education Center\, Education Center\, Bldg.1150 (Blockhouse)\, Room 3136
END:VEVENT
BEGIN:VEVENT
DTSTART;TZID=UTC:20261217T090000
DTEND;TZID=UTC:20261217T100000
DTSTAMP:20260423T080359
CREATED:20251210T215736Z
LAST-MODIFIED:20251210T220411Z
UID:10019681-1797498000-1797501600@56fss.com
SUMMARY:Skillbridge Briefing
DESCRIPTION:Time(s): 0900 &1400 \nLocation: Briefings are held at the Education Center\, Bldg. 1150 (Blockhouse)\, 3rd floor \nDetails: The DoD SkillBridge program is an opportunity for Service members to gain valuable civilian work experience through specific industry training\,\napprenticeships\, or internships during the last 180 days of service. SkillBridge connects Service members with industry partners in real-world job experiences. \n*Dates\, time\, and room subject to change* \nYOU MUST CALL TO REGISTER for the session you would like to attend. This briefing is your first step to using this program. After this briefing\, you will then schedule a one-on-one session with a counselor. Please call (623) 856-7722/7723
URL:https://56fss.com/event/skillbridge-briefing-2/2026-12-17/1/
LOCATION:Education Center\, Education Center\, Bldg.1150 (Blockhouse)\, Room 3136
END:VEVENT
BEGIN:VEVENT
DTSTART;TZID=UTC:20261217T140000
DTEND;TZID=UTC:20261217T150000
DTSTAMP:20260423T080359
CREATED:20251210T215736Z
LAST-MODIFIED:20251210T220411Z
UID:10019683-1797516000-1797519600@56fss.com
SUMMARY:Skillbridge Briefing
DESCRIPTION:Time(s): 0900 &1400 \nLocation: Briefings are held at the Education Center\, Bldg. 1150 (Blockhouse)\, 3rd floor \nDetails: The DoD SkillBridge program is an opportunity for Service members to gain valuable civilian work experience through specific industry training\,\napprenticeships\, or internships during the last 180 days of service. SkillBridge connects Service members with industry partners in real-world job experiences. \n*Dates\, time\, and room subject to change* \nYOU MUST CALL TO REGISTER for the session you would like to attend. This briefing is your first step to using this program. After this briefing\, you will then schedule a one-on-one session with a counselor. Please call (623) 856-7722/7723
URL:https://56fss.com/event/skillbridge-briefing-2/2026-12-17/2/
LOCATION:Education Center\, Education Center\, Bldg.1150 (Blockhouse)\, Room 3136
END:VEVENT
END:VCALENDAR