BEGIN:VCALENDAR
VERSION:2.0
PRODID:-//Luke AFB - ECPv6.15.20//NONSGML v1.0//EN
CALSCALE:GREGORIAN
METHOD:PUBLISH
X-WR-CALNAME:Luke AFB
X-ORIGINAL-URL:https://56fss.com
X-WR-CALDESC:Events for Luke AFB
REFRESH-INTERVAL;VALUE=DURATION:PT1H
X-Robots-Tag:noindex
X-PUBLISHED-TTL:PT1H
BEGIN:VTIMEZONE
TZID:UTC
BEGIN:STANDARD
TZOFFSETFROM:+0000
TZOFFSETTO:+0000
TZNAME:UTC
DTSTART:20250101T000000
END:STANDARD
END:VTIMEZONE
BEGIN:VEVENT
DTSTART;TZID=UTC:20260501T160000
DTEND;TZID=UTC:20260501T200000
DTSTAMP:20260423T080244
CREATED:20251209T055454Z
LAST-MODIFIED:20260410T173544Z
UID:10021370-1777651200-1777665600@56fss.com
SUMMARY:Fighter Wing 1st Friday
DESCRIPTION:Event Name: Fighter Wing 1st Friday \nDate: Recurring every First Friday of every month \nTime: 1600-2000 \nLocation: Zemke’s Lounge at Club Five Six \nTarget audience: 56th Fighter Wing and families \nPrice: Free entry\, Complimentary appetizers. First Friday Drink specials available\, Scotch n Cigar on the patio during cooler months. DJ Service or Live music.
URL:https://56fss.com/event/fighter-wing-1st-friday/2026-05-01/
LOCATION:Club Five Six\, 14000 Eagle St\, Luke AFB\, AZ 85309\, Glendale\, AZ\, United States
CATEGORIES:Food
END:VEVENT
BEGIN:VEVENT
DTSTART;TZID=UTC:20260605T153000
DTEND;TZID=UTC:20260605T200000
DTSTAMP:20260423T080244
CREATED:20251209T055454Z
LAST-MODIFIED:20260410T173544Z
UID:10019577-1780673400-1780689600@56fss.com
SUMMARY:Fighter Wing 1st Friday
DESCRIPTION:Event Name: Fighter Wing 1st Friday \nDate: Recurring every First Friday of every month \nTime: 1600-2000 \nLocation: Zemke’s Lounge at Club Five Six \nTarget audience: 56th Fighter Wing and families \nPrice: Free entry\, Complimentary appetizers. First Friday Drink specials available\, Scotch n Cigar on the patio during cooler months. DJ Service or Live music.
URL:https://56fss.com/event/fighter-wing-1st-friday/2026-06-05/
LOCATION:Club Five Six\, 14000 Eagle St\, Luke AFB\, AZ 85309\, Glendale\, AZ\, United States
CATEGORIES:Food
END:VEVENT
BEGIN:VEVENT
DTSTART;TZID=UTC:20260710T153000
DTEND;TZID=UTC:20260710T200000
DTSTAMP:20260423T080244
CREATED:20251209T055454Z
LAST-MODIFIED:20260410T173544Z
UID:10020352-1783697400-1783713600@56fss.com
SUMMARY:Fighter Wing 1st Friday
DESCRIPTION:Event Name: Fighter Wing 1st Friday \nDate: Recurring every First Friday of every month \nTime: 1600-2000 \nLocation: Zemke’s Lounge at Club Five Six \nTarget audience: 56th Fighter Wing and families \nPrice: Free entry\, Complimentary appetizers. First Friday Drink specials available\, Scotch n Cigar on the patio during cooler months. DJ Service or Live music.
URL:https://56fss.com/event/fighter-wing-1st-friday/2026-07-10/
LOCATION:Club Five Six\, 14000 Eagle St\, Luke AFB\, AZ 85309\, Glendale\, AZ\, United States
CATEGORIES:Food
END:VEVENT
BEGIN:VEVENT
DTSTART;TZID=UTC:20260807T153000
DTEND;TZID=UTC:20260807T200000
DTSTAMP:20260423T080244
CREATED:20251209T055454Z
LAST-MODIFIED:20260410T173544Z
UID:10019579-1786116600-1786132800@56fss.com
SUMMARY:Fighter Wing 1st Friday
DESCRIPTION:Event Name: Fighter Wing 1st Friday \nDate: Recurring every First Friday of every month \nTime: 1600-2000 \nLocation: Zemke’s Lounge at Club Five Six \nTarget audience: 56th Fighter Wing and families \nPrice: Free entry\, Complimentary appetizers. First Friday Drink specials available\, Scotch n Cigar on the patio during cooler months. DJ Service or Live music.
URL:https://56fss.com/event/fighter-wing-1st-friday/2026-08-07/
LOCATION:Club Five Six\, 14000 Eagle St\, Luke AFB\, AZ 85309\, Glendale\, AZ\, United States
CATEGORIES:Food
END:VEVENT
BEGIN:VEVENT
DTSTART;TZID=UTC:20260904T153000
DTEND;TZID=UTC:20260904T200000
DTSTAMP:20260423T080244
CREATED:20251209T055454Z
LAST-MODIFIED:20260410T173544Z
UID:10019580-1788535800-1788552000@56fss.com
SUMMARY:Fighter Wing 1st Friday
DESCRIPTION:Event Name: Fighter Wing 1st Friday \nDate: Recurring every First Friday of every month \nTime: 1600-2000 \nLocation: Zemke’s Lounge at Club Five Six \nTarget audience: 56th Fighter Wing and families \nPrice: Free entry\, Complimentary appetizers. First Friday Drink specials available\, Scotch n Cigar on the patio during cooler months. DJ Service or Live music.
URL:https://56fss.com/event/fighter-wing-1st-friday/2026-09-04/
LOCATION:Club Five Six\, 14000 Eagle St\, Luke AFB\, AZ 85309\, Glendale\, AZ\, United States
CATEGORIES:Food
END:VEVENT
BEGIN:VEVENT
DTSTART;TZID=UTC:20261002T153000
DTEND;TZID=UTC:20261002T200000
DTSTAMP:20260423T080244
CREATED:20251209T055454Z
LAST-MODIFIED:20260410T173544Z
UID:10019581-1790955000-1790971200@56fss.com
SUMMARY:Fighter Wing 1st Friday
DESCRIPTION:Event Name: Fighter Wing 1st Friday \nDate: Recurring every First Friday of every month \nTime: 1600-2000 \nLocation: Zemke’s Lounge at Club Five Six \nTarget audience: 56th Fighter Wing and families \nPrice: Free entry\, Complimentary appetizers. First Friday Drink specials available\, Scotch n Cigar on the patio during cooler months. DJ Service or Live music.
URL:https://56fss.com/event/fighter-wing-1st-friday/2026-10-02/
LOCATION:Club Five Six\, 14000 Eagle St\, Luke AFB\, AZ 85309\, Glendale\, AZ\, United States
CATEGORIES:Food
END:VEVENT
BEGIN:VEVENT
DTSTART;TZID=UTC:20261106T153000
DTEND;TZID=UTC:20261106T200000
DTSTAMP:20260423T080244
CREATED:20251209T055454Z
LAST-MODIFIED:20260410T173544Z
UID:10019582-1793979000-1793995200@56fss.com
SUMMARY:Fighter Wing 1st Friday
DESCRIPTION:Event Name: Fighter Wing 1st Friday \nDate: Recurring every First Friday of every month \nTime: 1600-2000 \nLocation: Zemke’s Lounge at Club Five Six \nTarget audience: 56th Fighter Wing and families \nPrice: Free entry\, Complimentary appetizers. First Friday Drink specials available\, Scotch n Cigar on the patio during cooler months. DJ Service or Live music.
URL:https://56fss.com/event/fighter-wing-1st-friday/2026-11-06/
LOCATION:Club Five Six\, 14000 Eagle St\, Luke AFB\, AZ 85309\, Glendale\, AZ\, United States
CATEGORIES:Food
END:VEVENT
BEGIN:VEVENT
DTSTART;TZID=UTC:20261204T153000
DTEND;TZID=UTC:20261204T200000
DTSTAMP:20260423T080244
CREATED:20251209T055454Z
LAST-MODIFIED:20260410T173544Z
UID:10019583-1796398200-1796414400@56fss.com
SUMMARY:Fighter Wing 1st Friday
DESCRIPTION:Event Name: Fighter Wing 1st Friday \nDate: Recurring every First Friday of every month \nTime: 1600-2000 \nLocation: Zemke’s Lounge at Club Five Six \nTarget audience: 56th Fighter Wing and families \nPrice: Free entry\, Complimentary appetizers. First Friday Drink specials available\, Scotch n Cigar on the patio during cooler months. DJ Service or Live music.
URL:https://56fss.com/event/fighter-wing-1st-friday/2026-12-04/
LOCATION:Club Five Six\, 14000 Eagle St\, Luke AFB\, AZ 85309\, Glendale\, AZ\, United States
CATEGORIES:Food
END:VEVENT
END:VCALENDAR