BEGIN:VCALENDAR
VERSION:2.0
PRODID:-//Luke AFB - ECPv6.15.20//NONSGML v1.0//EN
CALSCALE:GREGORIAN
METHOD:PUBLISH
X-WR-CALNAME:Luke AFB
X-ORIGINAL-URL:https://56fss.com
X-WR-CALDESC:Events for Luke AFB
REFRESH-INTERVAL;VALUE=DURATION:PT1H
X-Robots-Tag:noindex
X-PUBLISHED-TTL:PT1H
BEGIN:VTIMEZONE
TZID:UTC
BEGIN:STANDARD
TZOFFSETFROM:+0000
TZOFFSETTO:+0000
TZNAME:UTC
DTSTART:20250101T000000
END:STANDARD
END:VTIMEZONE
BEGIN:VEVENT
DTSTART;TZID=UTC:20260507T100000
DTEND;TZID=UTC:20260507T120000
DTSTAMP:20260423T233836
CREATED:20251209T020151Z
LAST-MODIFIED:20251209T020151Z
UID:10019546-1778148000-1778155200@56fss.com
SUMMARY:FDS - Officer
DESCRIPTION:Time: 1000 – 1200\n\nLocation: Community Commons\n\nDetails: Financial readiness training for Officer arrival at first duty station.
URL:https://56fss.com/event/fds-officer/2026-05-07/
LOCATION:Community Commons\, 14037 W Phantom St\, Luke AFB\, AZ 85309\, Glendale\, AZ\, United States
CATEGORIES:M&FRC
END:VEVENT
BEGIN:VEVENT
DTSTART;TZID=UTC:20260604T100000
DTEND;TZID=UTC:20260604T120000
DTSTAMP:20260423T233836
CREATED:20251209T020151Z
LAST-MODIFIED:20251209T020151Z
UID:10019547-1780567200-1780574400@56fss.com
SUMMARY:FDS - Officer
DESCRIPTION:Time: 1000 – 1200\n\nLocation: Community Commons\n\nDetails: Financial readiness training for Officer arrival at first duty station.
URL:https://56fss.com/event/fds-officer/2026-06-04/
LOCATION:Community Commons\, 14037 W Phantom St\, Luke AFB\, AZ 85309\, Glendale\, AZ\, United States
CATEGORIES:M&FRC
END:VEVENT
BEGIN:VEVENT
DTSTART;TZID=UTC:20260806T100000
DTEND;TZID=UTC:20260806T120000
DTSTAMP:20260423T233836
CREATED:20260109T211302Z
LAST-MODIFIED:20260401T191658Z
UID:10019901-1786010400-1786017600@56fss.com
SUMMARY:FDS Officer
DESCRIPTION:Time: 1000 – 1200\n\nLocation: Community Commons\n\nDetails: Financial readiness training for Officer arrival at first duty station.
URL:https://56fss.com/event/fds-officer-5/
LOCATION:Community Commons\, 14037 W Phantom St\, Luke AFB\, AZ 85309\, Glendale\, AZ\, United States
CATEGORIES:M&FRC
END:VEVENT
END:VCALENDAR