BEGIN:VCALENDAR
VERSION:2.0
PRODID:-//Luke AFB - ECPv6.15.20//NONSGML v1.0//EN
CALSCALE:GREGORIAN
METHOD:PUBLISH
X-WR-CALNAME:Luke AFB
X-ORIGINAL-URL:https://56fss.com
X-WR-CALDESC:Events for Luke AFB
REFRESH-INTERVAL;VALUE=DURATION:PT1H
X-Robots-Tag:noindex
X-PUBLISHED-TTL:PT1H
BEGIN:VTIMEZONE
TZID:UTC
BEGIN:STANDARD
TZOFFSETFROM:+0000
TZOFFSETTO:+0000
TZNAME:UTC
DTSTART:20250101T000000
END:STANDARD
END:VTIMEZONE
BEGIN:VEVENT
DTSTART;TZID=UTC:20260519T090000
DTEND;TZID=UTC:20260519T100000
DTSTAMP:20260423T170305
CREATED:20260324T223918Z
LAST-MODIFIED:20260324T224403Z
UID:10019536-1779181200-1779184800@56fss.com
SUMMARY:CKSP Immersion Training
DESCRIPTION:Time: 0900 – 1000 \nLocation: Military and Family Readiness Center \nDetails: New to being a Key Support Liaison/Mentor? Join us for in-person immersion training to familiarize with Luke AFB. Registration required. Contact M&FRC at (623) 856-6550.
URL:https://56fss.com/event/cksp-immersion-training-2/
LOCATION:Military & Family Readiness Center\, 7282 137th Ave Building 1113\, Luke AFB\, AZ\, 85309\, United States
CATEGORIES:M&FRC
END:VEVENT
END:VCALENDAR