BEGIN:VCALENDAR
VERSION:2.0
PRODID:-//Luke AFB - ECPv6.15.20//NONSGML v1.0//EN
CALSCALE:GREGORIAN
METHOD:PUBLISH
X-WR-CALNAME:Luke AFB
X-ORIGINAL-URL:https://56fss.com
X-WR-CALDESC:Events for Luke AFB
REFRESH-INTERVAL;VALUE=DURATION:PT1H
X-Robots-Tag:noindex
X-PUBLISHED-TTL:PT1H
BEGIN:VTIMEZONE
TZID:UTC
BEGIN:STANDARD
TZOFFSETFROM:+0000
TZOFFSETTO:+0000
TZNAME:UTC
DTSTART:20250101T000000
END:STANDARD
END:VTIMEZONE
BEGIN:VEVENT
DTSTART;TZID=UTC:20260512T080000
DTEND;TZID=UTC:20260512T120000
DTSTAMP:20260423T080249
CREATED:20251209T010949Z
LAST-MODIFIED:20251209T010949Z
UID:10019522-1778572800-1778587200@56fss.com
SUMMARY:Newcomers Wing Orientation
DESCRIPTION:Newcomers Wing Orientation \nTime: 0800-1200 \nLocation: Club Five Six \nPOC: Military & Family Readiness Center; 623-856-6550 \nDetails: A day long workshop introducing arriving personnel and their family members to the key personnel and services located on the base. Have your spouse attend with you and they will receive a FREE lunch voucher for use at Club 56 the day of Wing Orientation. \n 
URL:https://56fss.com/event/newcomers-wing-orientation-2/2026-05-12/
LOCATION:Club Five Six\, 14000 Eagle St\, Luke AFB\, AZ 85309\, Glendale\, AZ\, United States
CATEGORIES:M&FRC
END:VEVENT
BEGIN:VEVENT
DTSTART;TZID=UTC:20260609T080000
DTEND;TZID=UTC:20260609T120000
DTSTAMP:20260423T080249
CREATED:20251209T010949Z
LAST-MODIFIED:20251209T010949Z
UID:10019523-1780992000-1781006400@56fss.com
SUMMARY:Newcomers Wing Orientation
DESCRIPTION:Newcomers Wing Orientation \nTime: 0800-1200 \nLocation: Club Five Six \nPOC: Military & Family Readiness Center; 623-856-6550 \nDetails: A day long workshop introducing arriving personnel and their family members to the key personnel and services located on the base. Have your spouse attend with you and they will receive a FREE lunch voucher for use at Club 56 the day of Wing Orientation. \n 
URL:https://56fss.com/event/newcomers-wing-orientation-2/2026-06-09/
LOCATION:Club Five Six\, 14000 Eagle St\, Luke AFB\, AZ 85309\, Glendale\, AZ\, United States
CATEGORIES:M&FRC
END:VEVENT
BEGIN:VEVENT
DTSTART;TZID=UTC:20260623T080000
DTEND;TZID=UTC:20260623T120000
DTSTAMP:20260423T080249
CREATED:20251209T010949Z
LAST-MODIFIED:20251209T010949Z
UID:10019524-1782201600-1782216000@56fss.com
SUMMARY:Newcomers Wing Orientation
DESCRIPTION:Newcomers Wing Orientation \nTime: 0800-1200 \nLocation: Club Five Six \nPOC: Military & Family Readiness Center; 623-856-6550 \nDetails: A day long workshop introducing arriving personnel and their family members to the key personnel and services located on the base. Have your spouse attend with you and they will receive a FREE lunch voucher for use at Club 56 the day of Wing Orientation. \n 
URL:https://56fss.com/event/newcomers-wing-orientation-2/2026-06-23/
LOCATION:Club Five Six\, 14000 Eagle St\, Luke AFB\, AZ 85309\, Glendale\, AZ\, United States
CATEGORIES:M&FRC
END:VEVENT
END:VCALENDAR