BEGIN:VCALENDAR
VERSION:2.0
PRODID:-//Luke AFB - ECPv6.15.20//NONSGML v1.0//EN
CALSCALE:GREGORIAN
METHOD:PUBLISH
X-WR-CALNAME:Luke AFB
X-ORIGINAL-URL:https://56fss.com
X-WR-CALDESC:Events for Luke AFB
REFRESH-INTERVAL;VALUE=DURATION:PT1H
X-Robots-Tag:noindex
X-PUBLISHED-TTL:PT1H
BEGIN:VTIMEZONE
TZID:UTC
BEGIN:STANDARD
TZOFFSETFROM:+0000
TZOFFSETTO:+0000
TZNAME:UTC
DTSTART:20250101T000000
END:STANDARD
END:VTIMEZONE
BEGIN:VEVENT
DTSTART;TZID=UTC:20260428T080000
DTEND;TZID=UTC:20260428T110000
DTSTAMP:20260423T080339
CREATED:20251209T001756Z
LAST-MODIFIED:20251209T001756Z
UID:10019467-1777363200-1777374000@56fss.com
SUMMARY:Pre-Separation Briefing
DESCRIPTION:Time: 0800-1100 \nLocation: M&FRC \nPre-Separation Briefing: Mandatory Separation/Retirement Briefing. Pre-separation provides transitioning SMs information and resources on\nthe transition process while also initiating their DD2648.
URL:https://56fss.com/event/pre-separation-briefing/2026-04-28/
LOCATION:Military & Family Readiness Center\, 7282 137th Ave Building 1113\, Luke AFB\, AZ\, 85309\, United States
CATEGORIES:M&FRC
END:VEVENT
BEGIN:VEVENT
DTSTART;TZID=UTC:20260519T080000
DTEND;TZID=UTC:20260519T110000
DTSTAMP:20260423T080339
CREATED:20251209T001756Z
LAST-MODIFIED:20251209T001756Z
UID:10019468-1779177600-1779188400@56fss.com
SUMMARY:Pre-Separation Briefing
DESCRIPTION:Time: 0800-1100 \nLocation: M&FRC \nPre-Separation Briefing: Mandatory Separation/Retirement Briefing. Pre-separation provides transitioning SMs information and resources on\nthe transition process while also initiating their DD2648.
URL:https://56fss.com/event/pre-separation-briefing/2026-05-19/
LOCATION:Military & Family Readiness Center\, 7282 137th Ave Building 1113\, Luke AFB\, AZ\, 85309\, United States
CATEGORIES:M&FRC
END:VEVENT
BEGIN:VEVENT
DTSTART;TZID=UTC:20260526T080000
DTEND;TZID=UTC:20260526T110000
DTSTAMP:20260423T080339
CREATED:20251209T001756Z
LAST-MODIFIED:20251209T001756Z
UID:10019469-1779782400-1779793200@56fss.com
SUMMARY:Pre-Separation Briefing
DESCRIPTION:Time: 0800-1100 \nLocation: M&FRC \nPre-Separation Briefing: Mandatory Separation/Retirement Briefing. Pre-separation provides transitioning SMs information and resources on\nthe transition process while also initiating their DD2648.
URL:https://56fss.com/event/pre-separation-briefing/2026-05-26/
LOCATION:Military & Family Readiness Center\, 7282 137th Ave Building 1113\, Luke AFB\, AZ\, 85309\, United States
CATEGORIES:M&FRC
END:VEVENT
BEGIN:VEVENT
DTSTART;TZID=UTC:20260616T080000
DTEND;TZID=UTC:20260616T110000
DTSTAMP:20260423T080339
CREATED:20251209T001756Z
LAST-MODIFIED:20251209T001756Z
UID:10019470-1781596800-1781607600@56fss.com
SUMMARY:Pre-Separation Briefing
DESCRIPTION:Time: 0800-1100 \nLocation: M&FRC \nPre-Separation Briefing: Mandatory Separation/Retirement Briefing. Pre-separation provides transitioning SMs information and resources on\nthe transition process while also initiating their DD2648.
URL:https://56fss.com/event/pre-separation-briefing/2026-06-16/
LOCATION:Military & Family Readiness Center\, 7282 137th Ave Building 1113\, Luke AFB\, AZ\, 85309\, United States
CATEGORIES:M&FRC
END:VEVENT
BEGIN:VEVENT
DTSTART;TZID=UTC:20260623T080000
DTEND;TZID=UTC:20260623T110000
DTSTAMP:20260423T080339
CREATED:20251209T001756Z
LAST-MODIFIED:20251209T001756Z
UID:10019471-1782201600-1782212400@56fss.com
SUMMARY:Pre-Separation Briefing
DESCRIPTION:Time: 0800-1100 \nLocation: M&FRC \nPre-Separation Briefing: Mandatory Separation/Retirement Briefing. Pre-separation provides transitioning SMs information and resources on\nthe transition process while also initiating their DD2648.
URL:https://56fss.com/event/pre-separation-briefing/2026-06-23/
LOCATION:Military & Family Readiness Center\, 7282 137th Ave Building 1113\, Luke AFB\, AZ\, 85309\, United States
CATEGORIES:M&FRC
END:VEVENT
END:VCALENDAR