BEGIN:VCALENDAR
VERSION:2.0
PRODID:-//Luke AFB - ECPv6.15.20//NONSGML v1.0//EN
CALSCALE:GREGORIAN
METHOD:PUBLISH
X-WR-CALNAME:Luke AFB
X-ORIGINAL-URL:https://56fss.com
X-WR-CALDESC:Events for Luke AFB
REFRESH-INTERVAL;VALUE=DURATION:PT1H
X-Robots-Tag:noindex
X-PUBLISHED-TTL:PT1H
BEGIN:VTIMEZONE
TZID:UTC
BEGIN:STANDARD
TZOFFSETFROM:+0000
TZOFFSETTO:+0000
TZNAME:UTC
DTSTART:20250101T000000
END:STANDARD
END:VTIMEZONE
BEGIN:VEVENT
DTSTART;TZID=UTC:20260522T170000
DTEND;TZID=UTC:20260522T200000
DTSTAMP:20260424T131056
CREATED:20251205T101613Z
LAST-MODIFIED:20260203T175152Z
UID:10019402-1779469200-1779480000@56fss.com
SUMMARY:Nerf Wars
DESCRIPTION:Event: Nerf Wars \nTime: 1700-2000 \nLocation: Community Commons \nDetails: \n(1) Open to ages 16+\n(2) Drinks & snacks provided\n***No hard or sharp darts or weapons allowed. Items will be inspected***
URL:https://56fss.com/event/nerf-wars-2/2026-05-22/
LOCATION:Community Commons\, 14037 W Phantom St\, Luke AFB\, AZ 85309\, Glendale\, AZ\, United States
CATEGORIES:Fun
END:VEVENT
BEGIN:VEVENT
DTSTART;TZID=UTC:20260925T170000
DTEND;TZID=UTC:20260925T200000
DTSTAMP:20260424T131056
CREATED:20251205T101613Z
LAST-MODIFIED:20260203T175152Z
UID:10019403-1790355600-1790366400@56fss.com
SUMMARY:Nerf Wars
DESCRIPTION:Event: Nerf Wars \nTime: 1700-2000 \nLocation: Community Commons \nDetails: \n(1) Open to ages 16+\n(2) Drinks & snacks provided\n***No hard or sharp darts or weapons allowed. Items will be inspected***
URL:https://56fss.com/event/nerf-wars-2/2026-09-25/
LOCATION:Community Commons\, 14037 W Phantom St\, Luke AFB\, AZ 85309\, Glendale\, AZ\, United States
CATEGORIES:Fun
END:VEVENT
BEGIN:VEVENT
DTSTART;TZID=UTC:20261015T170000
DTEND;TZID=UTC:20261015T200000
DTSTAMP:20260424T131056
CREATED:20251205T101613Z
LAST-MODIFIED:20260203T175152Z
UID:10019404-1792083600-1792094400@56fss.com
SUMMARY:Nerf Wars
DESCRIPTION:Event: Nerf Wars \nTime: 1700-2000 \nLocation: Community Commons \nDetails: \n(1) Open to ages 16+\n(2) Drinks & snacks provided\n***No hard or sharp darts or weapons allowed. Items will be inspected***
URL:https://56fss.com/event/nerf-wars-2/2026-10-15/
LOCATION:Community Commons\, 14037 W Phantom St\, Luke AFB\, AZ 85309\, Glendale\, AZ\, United States
CATEGORIES:Fun
END:VEVENT
BEGIN:VEVENT
DTSTART;TZID=UTC:20261217T170000
DTEND;TZID=UTC:20261217T200000
DTSTAMP:20260424T131056
CREATED:20251205T101613Z
LAST-MODIFIED:20260203T175152Z
UID:10019405-1797526800-1797537600@56fss.com
SUMMARY:Nerf Wars
DESCRIPTION:Event: Nerf Wars \nTime: 1700-2000 \nLocation: Community Commons \nDetails: \n(1) Open to ages 16+\n(2) Drinks & snacks provided\n***No hard or sharp darts or weapons allowed. Items will be inspected***
URL:https://56fss.com/event/nerf-wars-2/2026-12-17/
LOCATION:Community Commons\, 14037 W Phantom St\, Luke AFB\, AZ 85309\, Glendale\, AZ\, United States
CATEGORIES:Fun
END:VEVENT
END:VCALENDAR