BEGIN:VCALENDAR
VERSION:2.0
PRODID:-//Luke AFB - ECPv6.15.20//NONSGML v1.0//EN
CALSCALE:GREGORIAN
METHOD:PUBLISH
X-WR-CALNAME:Luke AFB
X-ORIGINAL-URL:https://56fss.com
X-WR-CALDESC:Events for Luke AFB
REFRESH-INTERVAL;VALUE=DURATION:PT1H
X-Robots-Tag:noindex
X-PUBLISHED-TTL:PT1H
BEGIN:VTIMEZONE
TZID:UTC
BEGIN:STANDARD
TZOFFSETFROM:+0000
TZOFFSETTO:+0000
TZNAME:UTC
DTSTART:20250101T000000
END:STANDARD
END:VTIMEZONE
BEGIN:VEVENT
DTSTART;TZID=UTC:20260904T183000
DTEND;TZID=UTC:20260904T203000
DTSTAMP:20260425T173529
CREATED:20251205T093217Z
LAST-MODIFIED:20251205T093217Z
UID:10019353-1788546600-1788553800@56fss.com
SUMMARY:Movie Night
DESCRIPTION:Date(s): 04 & 11 Sept 2026 \nTime: 1830 – 2030 \nLocation: Base Theater \nDetails: \n04 Sept: TBD \n11 Sept: TBD
URL:https://56fss.com/event/movie-night-18/2026-09-04/
LOCATION:Base Theater
CATEGORIES:Fun
END:VEVENT
BEGIN:VEVENT
DTSTART;TZID=UTC:20260911T183000
DTEND;TZID=UTC:20260911T203000
DTSTAMP:20260425T173529
CREATED:20251205T093217Z
LAST-MODIFIED:20251205T093217Z
UID:10019354-1789151400-1789158600@56fss.com
SUMMARY:Movie Night
DESCRIPTION:Date(s): 04 & 11 Sept 2026 \nTime: 1830 – 2030 \nLocation: Base Theater \nDetails: \n04 Sept: TBD \n11 Sept: TBD
URL:https://56fss.com/event/movie-night-18/2026-09-11/
LOCATION:Base Theater
CATEGORIES:Fun
END:VEVENT
END:VCALENDAR