BEGIN:VCALENDAR
VERSION:2.0
PRODID:-//Luke AFB - ECPv6.15.20//NONSGML v1.0//EN
CALSCALE:GREGORIAN
METHOD:PUBLISH
X-WR-CALNAME:Luke AFB
X-ORIGINAL-URL:https://56fss.com
X-WR-CALDESC:Events for Luke AFB
REFRESH-INTERVAL;VALUE=DURATION:PT1H
X-Robots-Tag:noindex
X-PUBLISHED-TTL:PT1H
BEGIN:VTIMEZONE
TZID:UTC
BEGIN:STANDARD
TZOFFSETFROM:+0000
TZOFFSETTO:+0000
TZNAME:UTC
DTSTART:20250101T000000
END:STANDARD
END:VTIMEZONE
BEGIN:VEVENT
DTSTART;TZID=UTC:20260424T110000
DTEND;TZID=UTC:20260424T130000
DTSTAMP:20260423T080718
CREATED:20241112T185936Z
LAST-MODIFIED:20251215T201753Z
UID:10018162-1777028400-1777035600@56fss.com
SUMMARY:Every Friday- Fish Fridays
DESCRIPTION:Fish Fridays \nLunch: 1100-1300 \nLocation: Club Five Six
URL:https://56fss.com/event/every-friday-fish-fridays/2026-04-24/
END:VEVENT
BEGIN:VEVENT
DTSTART;TZID=UTC:20260501T110000
DTEND;TZID=UTC:20260501T130000
DTSTAMP:20260423T080718
CREATED:20241112T185936Z
LAST-MODIFIED:20251215T201753Z
UID:10018200-1777633200-1777640400@56fss.com
SUMMARY:Every Friday- Fish Fridays
DESCRIPTION:Fish Fridays \nLunch: 1100-1300 \nLocation: Club Five Six
URL:https://56fss.com/event/every-friday-fish-fridays/2026-05-01/
END:VEVENT
BEGIN:VEVENT
DTSTART;TZID=UTC:20260508T110000
DTEND;TZID=UTC:20260508T130000
DTSTAMP:20260423T080718
CREATED:20241112T185936Z
LAST-MODIFIED:20251215T201753Z
UID:10018252-1778238000-1778245200@56fss.com
SUMMARY:Every Friday- Fish Fridays
DESCRIPTION:Fish Fridays \nLunch: 1100-1300 \nLocation: Club Five Six
URL:https://56fss.com/event/every-friday-fish-fridays/2026-05-08/
END:VEVENT
BEGIN:VEVENT
DTSTART;TZID=UTC:20260515T110000
DTEND;TZID=UTC:20260515T130000
DTSTAMP:20260423T080718
CREATED:20241112T185936Z
LAST-MODIFIED:20251215T201753Z
UID:10018283-1778842800-1778850000@56fss.com
SUMMARY:Every Friday- Fish Fridays
DESCRIPTION:Fish Fridays \nLunch: 1100-1300 \nLocation: Club Five Six
URL:https://56fss.com/event/every-friday-fish-fridays/2026-05-15/
END:VEVENT
BEGIN:VEVENT
DTSTART;TZID=UTC:20260522T110000
DTEND;TZID=UTC:20260522T130000
DTSTAMP:20260423T080718
CREATED:20241112T185936Z
LAST-MODIFIED:20251215T201753Z
UID:10018585-1779447600-1779454800@56fss.com
SUMMARY:Every Friday- Fish Fridays
DESCRIPTION:Fish Fridays \nLunch: 1100-1300 \nLocation: Club Five Six
URL:https://56fss.com/event/every-friday-fish-fridays/2026-05-22/
END:VEVENT
BEGIN:VEVENT
DTSTART;TZID=UTC:20260529T110000
DTEND;TZID=UTC:20260529T130000
DTSTAMP:20260423T080718
CREATED:20241112T185936Z
LAST-MODIFIED:20251215T201753Z
UID:10018586-1780052400-1780059600@56fss.com
SUMMARY:Every Friday- Fish Fridays
DESCRIPTION:Fish Fridays \nLunch: 1100-1300 \nLocation: Club Five Six
URL:https://56fss.com/event/every-friday-fish-fridays/2026-05-29/
END:VEVENT
BEGIN:VEVENT
DTSTART;TZID=UTC:20260605T110000
DTEND;TZID=UTC:20260605T130000
DTSTAMP:20260423T080718
CREATED:20241112T185936Z
LAST-MODIFIED:20251215T201753Z
UID:10018587-1780657200-1780664400@56fss.com
SUMMARY:Every Friday- Fish Fridays
DESCRIPTION:Fish Fridays \nLunch: 1100-1300 \nLocation: Club Five Six
URL:https://56fss.com/event/every-friday-fish-fridays/2026-06-05/
END:VEVENT
BEGIN:VEVENT
DTSTART;TZID=UTC:20260612T110000
DTEND;TZID=UTC:20260612T130000
DTSTAMP:20260423T080718
CREATED:20241112T185936Z
LAST-MODIFIED:20251215T201753Z
UID:10018588-1781262000-1781269200@56fss.com
SUMMARY:Every Friday- Fish Fridays
DESCRIPTION:Fish Fridays \nLunch: 1100-1300 \nLocation: Club Five Six
URL:https://56fss.com/event/every-friday-fish-fridays/2026-06-12/
END:VEVENT
BEGIN:VEVENT
DTSTART;TZID=UTC:20260619T110000
DTEND;TZID=UTC:20260619T130000
DTSTAMP:20260423T080718
CREATED:20241112T185936Z
LAST-MODIFIED:20251215T201753Z
UID:10018589-1781866800-1781874000@56fss.com
SUMMARY:Every Friday- Fish Fridays
DESCRIPTION:Fish Fridays \nLunch: 1100-1300 \nLocation: Club Five Six
URL:https://56fss.com/event/every-friday-fish-fridays/2026-06-19/
END:VEVENT
BEGIN:VEVENT
DTSTART;TZID=UTC:20260626T110000
DTEND;TZID=UTC:20260626T130000
DTSTAMP:20260423T080718
CREATED:20241112T185936Z
LAST-MODIFIED:20251215T201753Z
UID:10018590-1782471600-1782478800@56fss.com
SUMMARY:Every Friday- Fish Fridays
DESCRIPTION:Fish Fridays \nLunch: 1100-1300 \nLocation: Club Five Six
URL:https://56fss.com/event/every-friday-fish-fridays/2026-06-26/
END:VEVENT
BEGIN:VEVENT
DTSTART;TZID=UTC:20260703T110000
DTEND;TZID=UTC:20260703T130000
DTSTAMP:20260423T080718
CREATED:20241112T185936Z
LAST-MODIFIED:20251215T201753Z
UID:10018591-1783076400-1783083600@56fss.com
SUMMARY:Every Friday- Fish Fridays
DESCRIPTION:Fish Fridays \nLunch: 1100-1300 \nLocation: Club Five Six
URL:https://56fss.com/event/every-friday-fish-fridays/2026-07-03/
END:VEVENT
BEGIN:VEVENT
DTSTART;TZID=UTC:20260710T110000
DTEND;TZID=UTC:20260710T130000
DTSTAMP:20260423T080718
CREATED:20241112T185936Z
LAST-MODIFIED:20251215T201753Z
UID:10018592-1783681200-1783688400@56fss.com
SUMMARY:Every Friday- Fish Fridays
DESCRIPTION:Fish Fridays \nLunch: 1100-1300 \nLocation: Club Five Six
URL:https://56fss.com/event/every-friday-fish-fridays/2026-07-10/
END:VEVENT
BEGIN:VEVENT
DTSTART;TZID=UTC:20260717T110000
DTEND;TZID=UTC:20260717T130000
DTSTAMP:20260423T080718
CREATED:20241112T185936Z
LAST-MODIFIED:20251215T201753Z
UID:10018593-1784286000-1784293200@56fss.com
SUMMARY:Every Friday- Fish Fridays
DESCRIPTION:Fish Fridays \nLunch: 1100-1300 \nLocation: Club Five Six
URL:https://56fss.com/event/every-friday-fish-fridays/2026-07-17/
END:VEVENT
BEGIN:VEVENT
DTSTART;TZID=UTC:20260724T110000
DTEND;TZID=UTC:20260724T130000
DTSTAMP:20260423T080718
CREATED:20241112T185936Z
LAST-MODIFIED:20251215T201753Z
UID:10018594-1784890800-1784898000@56fss.com
SUMMARY:Every Friday- Fish Fridays
DESCRIPTION:Fish Fridays \nLunch: 1100-1300 \nLocation: Club Five Six
URL:https://56fss.com/event/every-friday-fish-fridays/2026-07-24/
END:VEVENT
BEGIN:VEVENT
DTSTART;TZID=UTC:20260731T110000
DTEND;TZID=UTC:20260731T130000
DTSTAMP:20260423T080718
CREATED:20241112T185936Z
LAST-MODIFIED:20251215T201753Z
UID:10018595-1785495600-1785502800@56fss.com
SUMMARY:Every Friday- Fish Fridays
DESCRIPTION:Fish Fridays \nLunch: 1100-1300 \nLocation: Club Five Six
URL:https://56fss.com/event/every-friday-fish-fridays/2026-07-31/
END:VEVENT
BEGIN:VEVENT
DTSTART;TZID=UTC:20260807T110000
DTEND;TZID=UTC:20260807T130000
DTSTAMP:20260423T080718
CREATED:20241112T185936Z
LAST-MODIFIED:20251215T201753Z
UID:10018596-1786100400-1786107600@56fss.com
SUMMARY:Every Friday- Fish Fridays
DESCRIPTION:Fish Fridays \nLunch: 1100-1300 \nLocation: Club Five Six
URL:https://56fss.com/event/every-friday-fish-fridays/2026-08-07/
END:VEVENT
BEGIN:VEVENT
DTSTART;TZID=UTC:20260814T110000
DTEND;TZID=UTC:20260814T130000
DTSTAMP:20260423T080718
CREATED:20241112T185936Z
LAST-MODIFIED:20251215T201753Z
UID:10018597-1786705200-1786712400@56fss.com
SUMMARY:Every Friday- Fish Fridays
DESCRIPTION:Fish Fridays \nLunch: 1100-1300 \nLocation: Club Five Six
URL:https://56fss.com/event/every-friday-fish-fridays/2026-08-14/
END:VEVENT
BEGIN:VEVENT
DTSTART;TZID=UTC:20260821T110000
DTEND;TZID=UTC:20260821T130000
DTSTAMP:20260423T080718
CREATED:20241112T185936Z
LAST-MODIFIED:20251215T201753Z
UID:10018598-1787310000-1787317200@56fss.com
SUMMARY:Every Friday- Fish Fridays
DESCRIPTION:Fish Fridays \nLunch: 1100-1300 \nLocation: Club Five Six
URL:https://56fss.com/event/every-friday-fish-fridays/2026-08-21/
END:VEVENT
BEGIN:VEVENT
DTSTART;TZID=UTC:20260828T110000
DTEND;TZID=UTC:20260828T130000
DTSTAMP:20260423T080718
CREATED:20241112T185936Z
LAST-MODIFIED:20251215T201753Z
UID:10018599-1787914800-1787922000@56fss.com
SUMMARY:Every Friday- Fish Fridays
DESCRIPTION:Fish Fridays \nLunch: 1100-1300 \nLocation: Club Five Six
URL:https://56fss.com/event/every-friday-fish-fridays/2026-08-28/
END:VEVENT
BEGIN:VEVENT
DTSTART;TZID=UTC:20260904T110000
DTEND;TZID=UTC:20260904T130000
DTSTAMP:20260423T080718
CREATED:20241112T185936Z
LAST-MODIFIED:20251215T201753Z
UID:10018710-1788519600-1788526800@56fss.com
SUMMARY:Every Friday- Fish Fridays
DESCRIPTION:Fish Fridays \nLunch: 1100-1300 \nLocation: Club Five Six
URL:https://56fss.com/event/every-friday-fish-fridays/2026-09-04/
END:VEVENT
BEGIN:VEVENT
DTSTART;TZID=UTC:20260911T110000
DTEND;TZID=UTC:20260911T130000
DTSTAMP:20260423T080718
CREATED:20241112T185936Z
LAST-MODIFIED:20251215T201753Z
UID:10018746-1789124400-1789131600@56fss.com
SUMMARY:Every Friday- Fish Fridays
DESCRIPTION:Fish Fridays \nLunch: 1100-1300 \nLocation: Club Five Six
URL:https://56fss.com/event/every-friday-fish-fridays/2026-09-11/
END:VEVENT
BEGIN:VEVENT
DTSTART;TZID=UTC:20260918T110000
DTEND;TZID=UTC:20260918T130000
DTSTAMP:20260423T080718
CREATED:20241112T185936Z
LAST-MODIFIED:20251215T201753Z
UID:10018772-1789729200-1789736400@56fss.com
SUMMARY:Every Friday- Fish Fridays
DESCRIPTION:Fish Fridays \nLunch: 1100-1300 \nLocation: Club Five Six
URL:https://56fss.com/event/every-friday-fish-fridays/2026-09-18/
END:VEVENT
BEGIN:VEVENT
DTSTART;TZID=UTC:20260925T110000
DTEND;TZID=UTC:20260925T130000
DTSTAMP:20260423T080718
CREATED:20241112T185936Z
LAST-MODIFIED:20251215T201753Z
UID:10018799-1790334000-1790341200@56fss.com
SUMMARY:Every Friday- Fish Fridays
DESCRIPTION:Fish Fridays \nLunch: 1100-1300 \nLocation: Club Five Six
URL:https://56fss.com/event/every-friday-fish-fridays/2026-09-25/
END:VEVENT
BEGIN:VEVENT
DTSTART;TZID=UTC:20261002T110000
DTEND;TZID=UTC:20261002T130000
DTSTAMP:20260423T080718
CREATED:20241112T185936Z
LAST-MODIFIED:20251215T201753Z
UID:10018893-1790938800-1790946000@56fss.com
SUMMARY:Every Friday- Fish Fridays
DESCRIPTION:Fish Fridays \nLunch: 1100-1300 \nLocation: Club Five Six
URL:https://56fss.com/event/every-friday-fish-fridays/2026-10-02/
END:VEVENT
BEGIN:VEVENT
DTSTART;TZID=UTC:20261009T110000
DTEND;TZID=UTC:20261009T130000
DTSTAMP:20260423T080718
CREATED:20241112T185936Z
LAST-MODIFIED:20251215T201753Z
UID:10018894-1791543600-1791550800@56fss.com
SUMMARY:Every Friday- Fish Fridays
DESCRIPTION:Fish Fridays \nLunch: 1100-1300 \nLocation: Club Five Six
URL:https://56fss.com/event/every-friday-fish-fridays/2026-10-09/
END:VEVENT
BEGIN:VEVENT
DTSTART;TZID=UTC:20261016T110000
DTEND;TZID=UTC:20261016T130000
DTSTAMP:20260423T080718
CREATED:20241112T185936Z
LAST-MODIFIED:20251215T201753Z
UID:10018940-1792148400-1792155600@56fss.com
SUMMARY:Every Friday- Fish Fridays
DESCRIPTION:Fish Fridays \nLunch: 1100-1300 \nLocation: Club Five Six
URL:https://56fss.com/event/every-friday-fish-fridays/2026-10-16/
END:VEVENT
BEGIN:VEVENT
DTSTART;TZID=UTC:20261023T110000
DTEND;TZID=UTC:20261023T130000
DTSTAMP:20260423T080718
CREATED:20241112T185936Z
LAST-MODIFIED:20251215T201753Z
UID:10018964-1792753200-1792760400@56fss.com
SUMMARY:Every Friday- Fish Fridays
DESCRIPTION:Fish Fridays \nLunch: 1100-1300 \nLocation: Club Five Six
URL:https://56fss.com/event/every-friday-fish-fridays/2026-10-23/
END:VEVENT
BEGIN:VEVENT
DTSTART;TZID=UTC:20261030T110000
DTEND;TZID=UTC:20261030T130000
DTSTAMP:20260423T080718
CREATED:20241112T185936Z
LAST-MODIFIED:20251215T201753Z
UID:10019000-1793358000-1793365200@56fss.com
SUMMARY:Every Friday- Fish Fridays
DESCRIPTION:Fish Fridays \nLunch: 1100-1300 \nLocation: Club Five Six
URL:https://56fss.com/event/every-friday-fish-fridays/2026-10-30/
END:VEVENT
BEGIN:VEVENT
DTSTART;TZID=UTC:20261106T110000
DTEND;TZID=UTC:20261106T130000
DTSTAMP:20260423T080718
CREATED:20241112T185936Z
LAST-MODIFIED:20251215T201753Z
UID:10019030-1793962800-1793970000@56fss.com
SUMMARY:Every Friday- Fish Fridays
DESCRIPTION:Fish Fridays \nLunch: 1100-1300 \nLocation: Club Five Six
URL:https://56fss.com/event/every-friday-fish-fridays/2026-11-06/
END:VEVENT
BEGIN:VEVENT
DTSTART;TZID=UTC:20261113T110000
DTEND;TZID=UTC:20261113T130000
DTSTAMP:20260423T080718
CREATED:20241112T185936Z
LAST-MODIFIED:20251215T201753Z
UID:10019055-1794567600-1794574800@56fss.com
SUMMARY:Every Friday- Fish Fridays
DESCRIPTION:Fish Fridays \nLunch: 1100-1300 \nLocation: Club Five Six
URL:https://56fss.com/event/every-friday-fish-fridays/2026-11-13/
END:VEVENT
END:VCALENDAR