BEGIN:VCALENDAR
VERSION:2.0
PRODID:-//Luke AFB - ECPv6.15.20//NONSGML v1.0//EN
CALSCALE:GREGORIAN
METHOD:PUBLISH
X-WR-CALNAME:Luke AFB
X-ORIGINAL-URL:https://56fss.com
X-WR-CALDESC:Events for Luke AFB
REFRESH-INTERVAL;VALUE=DURATION:PT1H
X-Robots-Tag:noindex
X-PUBLISHED-TTL:PT1H
BEGIN:VTIMEZONE
TZID:UTC
BEGIN:STANDARD
TZOFFSETFROM:+0000
TZOFFSETTO:+0000
TZNAME:UTC
DTSTART:20250101T000000
END:STANDARD
END:VTIMEZONE
BEGIN:VEVENT
DTSTART;TZID=UTC:20260423T170000
DTEND;TZID=UTC:20260423T190000
DTSTAMP:20260422T010321
CREATED:20260403T161735Z
LAST-MODIFIED:20260403T162435Z
UID:10020331-1776963600-1776970800@56fss.com
SUMMARY:FCC Walk in provider Application and Q & A
DESCRIPTION:FCC Walk in provider Application and Q & A\nDate: First Tuesday of every month\nTime: 5pm-7PM\nLocation: BLDG 1140 Family Child Care\nTarget audience: Prospective Family Child Care Providers and\nFamilies who use Extended care programs \nDescription:\nTo provide time for Prospective providers to\nmeet and ask questions\, pick up applications and meet\nface to face. Also time for families to come ask questions\nabout the FCC and ECC Programs.Gain Information about becoming an FCC\nProvider\, as well as information about FCC and ECC programs.
URL:https://56fss.com/event/fcc-walk-in-provider-application-and-q-a-3-2-2/2026-04-23/
CATEGORIES:Family
END:VEVENT
BEGIN:VEVENT
DTSTART;TZID=UTC:20260528T170000
DTEND;TZID=UTC:20260528T190000
DTSTAMP:20260422T010321
CREATED:20260403T161735Z
LAST-MODIFIED:20260403T162435Z
UID:10020332-1779987600-1779994800@56fss.com
SUMMARY:FCC Walk in provider Application and Q & A
DESCRIPTION:FCC Walk in provider Application and Q & A\nDate: First Tuesday of every month\nTime: 5pm-7PM\nLocation: BLDG 1140 Family Child Care\nTarget audience: Prospective Family Child Care Providers and\nFamilies who use Extended care programs \nDescription:\nTo provide time for Prospective providers to\nmeet and ask questions\, pick up applications and meet\nface to face. Also time for families to come ask questions\nabout the FCC and ECC Programs.Gain Information about becoming an FCC\nProvider\, as well as information about FCC and ECC programs.
URL:https://56fss.com/event/fcc-walk-in-provider-application-and-q-a-3-2-2/2026-05-28/
CATEGORIES:Family
END:VEVENT
BEGIN:VEVENT
DTSTART;TZID=UTC:20260625T170000
DTEND;TZID=UTC:20260625T190000
DTSTAMP:20260422T010321
CREATED:20260403T161735Z
LAST-MODIFIED:20260403T162435Z
UID:10020333-1782406800-1782414000@56fss.com
SUMMARY:FCC Walk in provider Application and Q & A
DESCRIPTION:FCC Walk in provider Application and Q & A\nDate: First Tuesday of every month\nTime: 5pm-7PM\nLocation: BLDG 1140 Family Child Care\nTarget audience: Prospective Family Child Care Providers and\nFamilies who use Extended care programs \nDescription:\nTo provide time for Prospective providers to\nmeet and ask questions\, pick up applications and meet\nface to face. Also time for families to come ask questions\nabout the FCC and ECC Programs.Gain Information about becoming an FCC\nProvider\, as well as information about FCC and ECC programs.
URL:https://56fss.com/event/fcc-walk-in-provider-application-and-q-a-3-2-2/2026-06-25/
CATEGORIES:Family
END:VEVENT
BEGIN:VEVENT
DTSTART;TZID=UTC:20260730T170000
DTEND;TZID=UTC:20260730T190000
DTSTAMP:20260422T010321
CREATED:20260403T161735Z
LAST-MODIFIED:20260403T162435Z
UID:10020343-1785430800-1785438000@56fss.com
SUMMARY:FCC Walk in provider Application and Q & A
DESCRIPTION:FCC Walk in provider Application and Q & A\nDate: First Tuesday of every month\nTime: 5pm-7PM\nLocation: BLDG 1140 Family Child Care\nTarget audience: Prospective Family Child Care Providers and\nFamilies who use Extended care programs \nDescription:\nTo provide time for Prospective providers to\nmeet and ask questions\, pick up applications and meet\nface to face. Also time for families to come ask questions\nabout the FCC and ECC Programs.Gain Information about becoming an FCC\nProvider\, as well as information about FCC and ECC programs.
URL:https://56fss.com/event/fcc-walk-in-provider-application-and-q-a-3-2-2/2026-07-30/
CATEGORIES:Family
END:VEVENT
BEGIN:VEVENT
DTSTART;TZID=UTC:20260827T170000
DTEND;TZID=UTC:20260827T190000
DTSTAMP:20260422T010321
CREATED:20260403T161735Z
LAST-MODIFIED:20260403T162435Z
UID:10020335-1787850000-1787857200@56fss.com
SUMMARY:FCC Walk in provider Application and Q & A
DESCRIPTION:FCC Walk in provider Application and Q & A\nDate: First Tuesday of every month\nTime: 5pm-7PM\nLocation: BLDG 1140 Family Child Care\nTarget audience: Prospective Family Child Care Providers and\nFamilies who use Extended care programs \nDescription:\nTo provide time for Prospective providers to\nmeet and ask questions\, pick up applications and meet\nface to face. Also time for families to come ask questions\nabout the FCC and ECC Programs.Gain Information about becoming an FCC\nProvider\, as well as information about FCC and ECC programs.
URL:https://56fss.com/event/fcc-walk-in-provider-application-and-q-a-3-2-2/2026-08-27/
CATEGORIES:Family
END:VEVENT
BEGIN:VEVENT
DTSTART;TZID=UTC:20260924T170000
DTEND;TZID=UTC:20260924T190000
DTSTAMP:20260422T010321
CREATED:20260403T161735Z
LAST-MODIFIED:20260403T162435Z
UID:10020336-1790269200-1790276400@56fss.com
SUMMARY:FCC Walk in provider Application and Q & A
DESCRIPTION:FCC Walk in provider Application and Q & A\nDate: First Tuesday of every month\nTime: 5pm-7PM\nLocation: BLDG 1140 Family Child Care\nTarget audience: Prospective Family Child Care Providers and\nFamilies who use Extended care programs \nDescription:\nTo provide time for Prospective providers to\nmeet and ask questions\, pick up applications and meet\nface to face. Also time for families to come ask questions\nabout the FCC and ECC Programs.Gain Information about becoming an FCC\nProvider\, as well as information about FCC and ECC programs.
URL:https://56fss.com/event/fcc-walk-in-provider-application-and-q-a-3-2-2/2026-09-24/
CATEGORIES:Family
END:VEVENT
BEGIN:VEVENT
DTSTART;TZID=UTC:20261029T170000
DTEND;TZID=UTC:20261029T190000
DTSTAMP:20260422T010321
CREATED:20260403T161735Z
LAST-MODIFIED:20260403T162435Z
UID:10020344-1793293200-1793300400@56fss.com
SUMMARY:FCC Walk in provider Application and Q & A
DESCRIPTION:FCC Walk in provider Application and Q & A\nDate: First Tuesday of every month\nTime: 5pm-7PM\nLocation: BLDG 1140 Family Child Care\nTarget audience: Prospective Family Child Care Providers and\nFamilies who use Extended care programs \nDescription:\nTo provide time for Prospective providers to\nmeet and ask questions\, pick up applications and meet\nface to face. Also time for families to come ask questions\nabout the FCC and ECC Programs.Gain Information about becoming an FCC\nProvider\, as well as information about FCC and ECC programs.
URL:https://56fss.com/event/fcc-walk-in-provider-application-and-q-a-3-2-2/2026-10-29/
CATEGORIES:Family
END:VEVENT
BEGIN:VEVENT
DTSTART;TZID=UTC:20261126T170000
DTEND;TZID=UTC:20261126T190000
DTSTAMP:20260422T010321
CREATED:20260403T161735Z
LAST-MODIFIED:20260403T162435Z
UID:10020338-1795712400-1795719600@56fss.com
SUMMARY:FCC Walk in provider Application and Q & A
DESCRIPTION:FCC Walk in provider Application and Q & A\nDate: First Tuesday of every month\nTime: 5pm-7PM\nLocation: BLDG 1140 Family Child Care\nTarget audience: Prospective Family Child Care Providers and\nFamilies who use Extended care programs \nDescription:\nTo provide time for Prospective providers to\nmeet and ask questions\, pick up applications and meet\nface to face. Also time for families to come ask questions\nabout the FCC and ECC Programs.Gain Information about becoming an FCC\nProvider\, as well as information about FCC and ECC programs.
URL:https://56fss.com/event/fcc-walk-in-provider-application-and-q-a-3-2-2/2026-11-26/
CATEGORIES:Family
END:VEVENT
BEGIN:VEVENT
DTSTART;TZID=UTC:20261224T170000
DTEND;TZID=UTC:20261224T190000
DTSTAMP:20260422T010321
CREATED:20260403T161735Z
LAST-MODIFIED:20260403T162435Z
UID:10020339-1798131600-1798138800@56fss.com
SUMMARY:FCC Walk in provider Application and Q & A
DESCRIPTION:FCC Walk in provider Application and Q & A\nDate: First Tuesday of every month\nTime: 5pm-7PM\nLocation: BLDG 1140 Family Child Care\nTarget audience: Prospective Family Child Care Providers and\nFamilies who use Extended care programs \nDescription:\nTo provide time for Prospective providers to\nmeet and ask questions\, pick up applications and meet\nface to face. Also time for families to come ask questions\nabout the FCC and ECC Programs.Gain Information about becoming an FCC\nProvider\, as well as information about FCC and ECC programs.
URL:https://56fss.com/event/fcc-walk-in-provider-application-and-q-a-3-2-2/2026-12-24/
CATEGORIES:Family
END:VEVENT
BEGIN:VEVENT
DTSTART;TZID=UTC:20270128T170000
DTEND;TZID=UTC:20270128T190000
DTSTAMP:20260422T010321
CREATED:20260403T161735Z
LAST-MODIFIED:20260403T162435Z
UID:10020340-1801155600-1801162800@56fss.com
SUMMARY:FCC Walk in provider Application and Q & A
DESCRIPTION:FCC Walk in provider Application and Q & A\nDate: First Tuesday of every month\nTime: 5pm-7PM\nLocation: BLDG 1140 Family Child Care\nTarget audience: Prospective Family Child Care Providers and\nFamilies who use Extended care programs \nDescription:\nTo provide time for Prospective providers to\nmeet and ask questions\, pick up applications and meet\nface to face. Also time for families to come ask questions\nabout the FCC and ECC Programs.Gain Information about becoming an FCC\nProvider\, as well as information about FCC and ECC programs.
URL:https://56fss.com/event/fcc-walk-in-provider-application-and-q-a-3-2-2/2027-01-28/
CATEGORIES:Family
END:VEVENT
BEGIN:VEVENT
DTSTART;TZID=UTC:20270225T170000
DTEND;TZID=UTC:20270225T190000
DTSTAMP:20260422T010321
CREATED:20260403T161735Z
LAST-MODIFIED:20260403T162435Z
UID:10020341-1803574800-1803582000@56fss.com
SUMMARY:FCC Walk in provider Application and Q & A
DESCRIPTION:FCC Walk in provider Application and Q & A\nDate: First Tuesday of every month\nTime: 5pm-7PM\nLocation: BLDG 1140 Family Child Care\nTarget audience: Prospective Family Child Care Providers and\nFamilies who use Extended care programs \nDescription:\nTo provide time for Prospective providers to\nmeet and ask questions\, pick up applications and meet\nface to face. Also time for families to come ask questions\nabout the FCC and ECC Programs.Gain Information about becoming an FCC\nProvider\, as well as information about FCC and ECC programs.
URL:https://56fss.com/event/fcc-walk-in-provider-application-and-q-a-3-2-2/2027-02-25/
CATEGORIES:Family
END:VEVENT
BEGIN:VEVENT
DTSTART;TZID=UTC:20270325T170000
DTEND;TZID=UTC:20270325T190000
DTSTAMP:20260422T010321
CREATED:20260403T161735Z
LAST-MODIFIED:20260403T162435Z
UID:10020342-1805994000-1806001200@56fss.com
SUMMARY:FCC Walk in provider Application and Q & A
DESCRIPTION:FCC Walk in provider Application and Q & A\nDate: First Tuesday of every month\nTime: 5pm-7PM\nLocation: BLDG 1140 Family Child Care\nTarget audience: Prospective Family Child Care Providers and\nFamilies who use Extended care programs \nDescription:\nTo provide time for Prospective providers to\nmeet and ask questions\, pick up applications and meet\nface to face. Also time for families to come ask questions\nabout the FCC and ECC Programs.Gain Information about becoming an FCC\nProvider\, as well as information about FCC and ECC programs.
URL:https://56fss.com/event/fcc-walk-in-provider-application-and-q-a-3-2-2/2027-03-25/
CATEGORIES:Family
END:VEVENT
END:VCALENDAR