BEGIN:VCALENDAR
VERSION:2.0
PRODID:-//Luke AFB - ECPv6.15.20//NONSGML v1.0//EN
CALSCALE:GREGORIAN
METHOD:PUBLISH
X-WR-CALNAME:Luke AFB
X-ORIGINAL-URL:https://56fss.com
X-WR-CALDESC:Events for Luke AFB
REFRESH-INTERVAL;VALUE=DURATION:PT1H
X-Robots-Tag:noindex
X-PUBLISHED-TTL:PT1H
BEGIN:VTIMEZONE
TZID:UTC
BEGIN:STANDARD
TZOFFSETFROM:+0000
TZOFFSETTO:+0000
TZNAME:UTC
DTSTART:20250101T000000
END:STANDARD
END:VTIMEZONE
BEGIN:VEVENT
DTSTART;TZID=UTC:20260420T080000
DTEND;TZID=UTC:20260424T160000
DTSTAMP:20260423T145042
CREATED:20251209T004838Z
LAST-MODIFIED:20251209T004838Z
UID:10019513-1776672000-1777046400@56fss.com
SUMMARY:TAP Workshop
DESCRIPTION:Time: 0800 – 1600 \nLocation: Military & Family Readiness \nDetails: 5-Day Transition Assistance Program Workshop: Includes the Core Curriculum & the 2-day Employment Track.
URL:https://56fss.com/event/tap-workshop-12/
LOCATION:Military & Family Readiness Center\, 7282 137th Ave Building 1113\, Luke AFB\, AZ\, 85309\, United States
CATEGORIES:M&FRC
END:VEVENT
BEGIN:VEVENT
DTSTART;TZID=UTC:20260420T110000
DTEND;TZID=UTC:20260424T130000
DTSTAMP:20260423T145042
CREATED:20241028T164623Z
LAST-MODIFIED:20250225T190840Z
UID:10018194-1776682800-1777035600@56fss.com
SUMMARY:DFAC Temporary Closure – Remodeling for Food 2.0
DESCRIPTION:DFAC Temporary Closure – Remodeling for Food 2.0 \nThe DFAC is temporarily closed for remodeling to introduce Food 2.0. We appreciate your patience during this time.
URL:https://56fss.com/event/dfac-specialty-meals-3/2026-04-20/
LOCATION:Hensman Dining Facility\, 14032 W Mustang St. Luke AFB AZ\, Glendale\, United States
CATEGORIES:Food
END:VEVENT
BEGIN:VEVENT
DTSTART;TZID=UTC:20260423T060000
DTEND;TZID=UTC:20260423T063000
DTSTAMP:20260423T145042
CREATED:20260408T180238Z
LAST-MODIFIED:20260408T180238Z
UID:10020688-1776924000-1776925800@56fss.com
SUMMARY:Lightning Class Combat Ready
DESCRIPTION:Date: Every Tuesday – Thursday \nTime: 0600-0630 \nLocation: Combat PT Tent \nDetails: 30-minute fast moving claass that highlights mental and physical toughness. Evokes the challenge and continuous preparedness for the Combat PT readiness test.
URL:https://56fss.com/event/lightning-class-combat-ready/2026-04-23/
END:VEVENT
BEGIN:VEVENT
DTSTART;TZID=UTC:20260423T060000
DTEND;TZID=UTC:20260423T070000
DTSTAMP:20260423T145042
CREATED:20250107T203006Z
LAST-MODIFIED:20260408T182230Z
UID:10018156-1776924000-1776927600@56fss.com
SUMMARY:Strength Training (Run clinic)
DESCRIPTION:Strength Training (Run Clinic) with Maxwell \nDate: Tuesday & Thursday \nLocation: Combat Pt tent \nTime: 0600 \nDescription: A variety of exercises which builds endurance\, strength and sculpts the body. Specifically for the Run Clinic.
URL:https://56fss.com/event/strength-training-w-max-2/2026-04-23/
LOCATION:Bryant Fitness Center\, 14053 W Shooting Star St\, Glendale\, AZ\, United States
CATEGORIES:Fitness
END:VEVENT
BEGIN:VEVENT
DTSTART;TZID=UTC:20260423T070000
DTEND;TZID=UTC:20260423T073000
DTSTAMP:20260423T145042
CREATED:20260408T182319Z
LAST-MODIFIED:20260408T182319Z
UID:10020948-1776927600-1776929400@56fss.com
SUMMARY:Strength Training (Run Clinic)
DESCRIPTION:Date: Every Tuesday and Thursday \nTime: 0700 – 0730 \nLocation: Combat PT Tent \nDetails: A variety of exercises that build endurance\, strength\, and sculpt the body
URL:https://56fss.com/event/strength-training-run-clinic/2026-04-23/
CATEGORIES:Fitness
END:VEVENT
BEGIN:VEVENT
DTSTART;TZID=UTC:20260423T090000
DTEND;TZID=UTC:20260423T100000
DTSTAMP:20260423T145042
CREATED:20251209T014906Z
LAST-MODIFIED:20260311T205145Z
UID:10019538-1776934800-1776938400@56fss.com
SUMMARY:Resume Workshop
DESCRIPTION:Time: 1000 \nLocation: M&FRC \nDetails: Interested in finding a job but don’t know where to start? Learn how to craft your resume! Registration required. Call M&FRC at (623) 856-6550.
URL:https://56fss.com/event/resume-workshop/2026-04-23/
LOCATION:Military & Family Readiness Center\, 7282 137th Ave Building 1113\, Luke AFB\, AZ\, 85309\, United States
CATEGORIES:M&FRC
END:VEVENT
BEGIN:VEVENT
DTSTART;TZID=UTC:20260423T090000
DTEND;TZID=UTC:20260423T100000
DTSTAMP:20260423T145042
CREATED:20260408T182628Z
LAST-MODIFIED:20260408T182628Z
UID:10021053-1776934800-1776938400@56fss.com
SUMMARY:Strength Circuit
DESCRIPTION:Date: Every Tuesday and Thursday \nTime: 0900 – 1000 \nLocation: Combat PT Tent \nDetails: A fun class with strength and cardio to help with functional life movements. This class has fun music and keeps you moving for 60 minutes.
URL:https://56fss.com/event/strength-circuit/2026-04-23/
CATEGORIES:Fitness
END:VEVENT
BEGIN:VEVENT
DTSTART;TZID=UTC:20260423T100000
DTEND;TZID=UTC:20260423T103000
DTSTAMP:20260423T145042
CREATED:20241015T222632Z
LAST-MODIFIED:20260408T171537Z
UID:10018157-1776938400-1776940200@56fss.com
SUMMARY:Yoga Class with Sheri
DESCRIPTION:Yoga Class with Sherri \nDate: T-W-TH \nTime: 1000-1030 \nDescription: This class combines Traditional Vinyasa yoga and mobility and stability in a ½ hr to help make your workout complete.
URL:https://56fss.com/event/yoga-class-with-sheri/2026-04-23/
LOCATION:Community Commons\, 14037 W Phantom St\, Luke AFB\, AZ 85309\, Glendale\, AZ\, United States
END:VEVENT
BEGIN:VEVENT
DTSTART;TZID=UTC:20260423T120000
DTEND;TZID=UTC:20260423T160000
DTSTAMP:20260423T145042
CREATED:20260311T204914Z
LAST-MODIFIED:20260311T204914Z
UID:10020169-1776945600-1776960000@56fss.com
SUMMARY:Elevate-Couples Workshop
DESCRIPTION:Date(s): 15 & 23 April 2026 \nTime: 1200-1600 \nLocation: TBD \nDetails: Registration required. Contact M&FRC at 623-856-6550.
URL:https://56fss.com/event/elevate-couples-workshop/2026-04-23/
CATEGORIES:M&FRC
END:VEVENT
BEGIN:VEVENT
DTSTART;TZID=UTC:20260423T160000
DTEND;TZID=UTC:20260423T163000
DTSTAMP:20260423T145042
CREATED:20260408T194916Z
LAST-MODIFIED:20260408T194916Z
UID:10021159-1776960000-1776961800@56fss.com
SUMMARY:Lightning Class Core
DESCRIPTION:Date: Every Tuesday and Thursday \nTime: 1600 – 1630 \nLocation: Every Tuesday\, Combat PT Tent. Every Thursday\, Building 700 \nDetails: A 30-minute class focusing on your core\, core to extremity\, building strong people\, helping to prevent back injuries.
URL:https://56fss.com/event/lightning-class-core-2/2026-04-23/
CATEGORIES:Fitness
END:VEVENT
BEGIN:VEVENT
DTSTART;TZID=UTC:20260423T163000
DTEND;TZID=UTC:20260423T170000
DTSTAMP:20260423T145042
CREATED:20260408T195752Z
LAST-MODIFIED:20260408T195752Z
UID:10021264-1776961800-1776963600@56fss.com
SUMMARY:Lighting Class Grit and Grind
DESCRIPTION:Date: Every Tuesday and Thursday \nTime: 1630-1700 \nLocation: Every Tuesday\, Combat PT Tent\, and Every Thursday\, Building 700 \nDetails: 30-minute fast-moving class that highlights mental and physical toughness. Evokes the challenge and continuous preparedness for the Combat PT readiness test.
URL:https://56fss.com/event/lighting-class-grit-and-grind/2026-04-23/
CATEGORIES:Fitness
END:VEVENT
BEGIN:VEVENT
DTSTART;TZID=UTC:20260423T170000
DTEND;TZID=UTC:20260423T180000
DTSTAMP:20260423T145042
CREATED:20241024T205117Z
LAST-MODIFIED:20241024T205117Z
UID:10018159-1776963600-1776967200@56fss.com
SUMMARY:Indoor Cycling with instructor Margarita
DESCRIPTION:*Indoor Cycling with instructor Margarita \nTime: 1700 \nLocation: Thursday building 700 \nDescription: Low impact cardiovascular exercise. This class build endurance\, strengthens the core as well as tone muscles.
URL:https://56fss.com/event/indoor-cycling-with-instructor-margarita/2026-04-23/
LOCATION:Community Commons\, 14037 W Phantom St\, Luke AFB\, AZ 85309\, Glendale\, AZ\, United States
CATEGORIES:Fitness
END:VEVENT
BEGIN:VEVENT
DTSTART;TZID=UTC:20260423T170000
DTEND;TZID=UTC:20260423T190000
DTSTAMP:20260423T145042
CREATED:20260403T161735Z
LAST-MODIFIED:20260403T162435Z
UID:10020331-1776963600-1776970800@56fss.com
SUMMARY:FCC Walk in provider Application and Q & A
DESCRIPTION:FCC Walk in provider Application and Q & A\nDate: First Tuesday of every month\nTime: 5pm-7PM\nLocation: BLDG 1140 Family Child Care\nTarget audience: Prospective Family Child Care Providers and\nFamilies who use Extended care programs \nDescription:\nTo provide time for Prospective providers to\nmeet and ask questions\, pick up applications and meet\nface to face. Also time for families to come ask questions\nabout the FCC and ECC Programs.Gain Information about becoming an FCC\nProvider\, as well as information about FCC and ECC programs.
URL:https://56fss.com/event/fcc-walk-in-provider-application-and-q-a-3-2-2/2026-04-23/
CATEGORIES:Family
END:VEVENT
BEGIN:VEVENT
DTSTART;TZID=UTC:20260423T180000
DTEND;TZID=UTC:20260423T200000
DTSTAMP:20260423T145042
CREATED:20250107T181313Z
LAST-MODIFIED:20260129T214114Z
UID:10018155-1776967200-1776974400@56fss.com
SUMMARY:Intramural Sports
DESCRIPTION:Squadrons interested in participating must complete and submit a Letter of Intent to Ms. Jemia Fournier-\nAllen. \nFor more information\, please contact Bryant Fitness Center at (623) 856-6241 \n 
URL:https://56fss.com/event/intramural-softball-season-one-2/2026-04-23/
CATEGORIES:Fitness
END:VEVENT
BEGIN:VEVENT
DTSTART;TZID=UTC:20260424T060000
DTEND;TZID=UTC:20260424T070000
DTSTAMP:20260423T145042
CREATED:20241024T203304Z
LAST-MODIFIED:20260129T214226Z
UID:10018160-1777010400-1777014000@56fss.com
SUMMARY:Warrior Training
DESCRIPTION:Warrior Training \nDates: M/T/W & Fri at 0600 \nDates: Wed at 0900 \nDates: Tuesday at 1700 \nLocation: Combat PT tent Functional training strength\, gymnastics\, and endurance in fun and competitive workouts \n 
URL:https://56fss.com/event/warrior-training-3/2026-04-24/
LOCATION:Bryant Fitness Center\, 14053 W Shooting Star St\, Glendale\, AZ\, United States
END:VEVENT
BEGIN:VEVENT
DTSTART;TZID=UTC:20260424T060000
DTEND;TZID=UTC:20260424T070000
DTSTAMP:20260423T145042
CREATED:20250107T201153Z
LAST-MODIFIED:20260129T213513Z
UID:10018161-1777010400-1777014000@56fss.com
SUMMARY:Run Clinic in Combat PT
DESCRIPTION:Run Clinic (Runs every 6 weeks Jan – Dec) \nTime: @0600 \nOpen to:  all DoD ID cardholders \n– 6-week clinic\n– M/W/F @0600 in Combat PT\n– T/Th @0600 strength training in Combat PT\n– Sign-up through Sherri Biringer @2291
URL:https://56fss.com/event/run-clinic/2026-04-24/
CATEGORIES:Fitness
END:VEVENT
BEGIN:VEVENT
DTSTART;TZID=UTC:20260424T060000
DTEND;TZID=UTC:20260424T090000
DTSTAMP:20260423T145042
CREATED:20251119T211613Z
LAST-MODIFIED:20251212T004512Z
UID:10019094-1777010400-1777021200@56fss.com
SUMMARY:Lt Col. Frank Bryant WOD
DESCRIPTION:Date: 24 April 2026 \nTime: 0600 – 0900 \nLocation: Bryant Fitness Center \nDetails: Open to all DoD Card Holders. \n 
URL:https://56fss.com/event/lt-col-frank-bryant-wod/
LOCATION:Bryant Fitness Center\, 14053 W Shooting Star St\, Glendale\, AZ\, United States
CATEGORIES:Fitness
END:VEVENT
BEGIN:VEVENT
DTSTART;TZID=UTC:20260424T063000
DTEND;TZID=UTC:20260424T070000
DTSTAMP:20260423T145042
CREATED:20260408T174841Z
LAST-MODIFIED:20260408T180344Z
UID:10020791-1777012200-1777014000@56fss.com
SUMMARY:Lightning Class Core
DESCRIPTION:Date: M-W-F \nTime: 0630-0700 \nLocation: Combat PT Tent \nDetails: A 30-minute class focusing on your core\, core to extremity\, building strong people\, helping to prevent back injuries.
URL:https://56fss.com/event/lightning-class-core/2026-04-24/
CATEGORIES:Fitness
END:VEVENT
BEGIN:VEVENT
DTSTART;TZID=UTC:20260424T070000
DTEND;TZID=UTC:20260424T073000
DTSTAMP:20260423T145042
CREATED:20260408T175424Z
LAST-MODIFIED:20260408T175424Z
UID:10020534-1777014000-1777015800@56fss.com
SUMMARY:Lightning Class Grit and Grind
DESCRIPTION:Date: Every Monday\, Wednesday\, and Friday \nTime: 0700-0730 \nLocation: Combat PT Tent \nDetails: 30-minute fast-moving class that highlights mental and physical toughness. Evokes the challenge and continuous preparedness for the Combat PT readiness test
URL:https://56fss.com/event/lightning-class-grit-and-grind/2026-04-24/
CATEGORIES:Fitness
END:VEVENT
BEGIN:VEVENT
DTSTART;TZID=UTC:20260424T100000
DTEND;TZID=UTC:20260424T110000
DTSTAMP:20260423T145042
CREATED:20260408T172540Z
LAST-MODIFIED:20260408T180456Z
UID:10020424-1777024800-1777028400@56fss.com
SUMMARY:Equipment Orientation
DESCRIPTION:Equipment Orientation \nDate: Tuesday & Thursday \nTime: 1000 \nDescription: A fitness orientation is an information session typically 30-45 minutes in length that will provide you with the basics of how\nto use the weight machines and cardio equipment. You will learn how to start\, stop\, and change settings on cardio machines\,\nadjust seat height and weight selection on machines and have a discussion of proper form on the weight machines. “By appointment only”
URL:https://56fss.com/event/equipment-orientation-2/2026-04-24/
LOCATION:Bryant Fitness Center\, 14053 W Shooting Star St\, Glendale\, AZ\, United States
END:VEVENT
BEGIN:VEVENT
DTSTART;TZID=UTC:20260424T110000
DTEND;TZID=UTC:20260424T130000
DTSTAMP:20260423T145042
CREATED:20241112T185936Z
LAST-MODIFIED:20251215T201753Z
UID:10018162-1777028400-1777035600@56fss.com
SUMMARY:Every Friday- Fish Fridays
DESCRIPTION:Fish Fridays \nLunch: 1100-1300 \nLocation: Club Five Six
URL:https://56fss.com/event/every-friday-fish-fridays/2026-04-24/
END:VEVENT
BEGIN:VEVENT
DTSTART;TZID=UTC:20260424T170000
DTEND;TZID=UTC:20260424T190000
DTSTAMP:20260423T145042
CREATED:20251205T101009Z
LAST-MODIFIED:20260402T160021Z
UID:10019389-1777050000-1777057200@56fss.com
SUMMARY:Thunderbolt RC
DESCRIPTION:Event: Thunderbolt RC \nTime: between the hours of 1600 – 2030 (time varies based on date) \nLocation: Club 56 \nDetails: Open to all (16 and below must be accompanied by an adult)
URL:https://56fss.com/event/thunderbolt-rc/2026-04-24/
CATEGORIES:Fun
END:VEVENT
BEGIN:VEVENT
DTSTART;TZID=UTC:20260424T170000
DTEND;TZID=UTC:20260424T200000
DTSTAMP:20260423T145042
CREATED:20251121T155213Z
LAST-MODIFIED:20260325T152719Z
UID:10019157-1777050000-1777060800@56fss.com
SUMMARY:MOMC Time to Glo Up Dance Party
DESCRIPTION:Date: 24 April 2026 \nTime: 5:00 PM – 8:00 PM \nLocation: Club 56 \nDetails: We will have a DJ playing the coolest music that children love. Open to all\, free pizza for children. Bar food available for purchase\, no sign-up required.
URL:https://56fss.com/event/momc-time-to-glo-up-dance-party/
LOCATION:Club Five Six\, 14000 Eagle St\, Luke AFB\, AZ 85309\, Glendale\, AZ\, United States
CATEGORIES:Food
END:VEVENT
BEGIN:VEVENT
DTSTART;TZID=UTC:20260424T173000
DTEND;TZID=UTC:20260424T183000
DTSTAMP:20260423T145042
CREATED:20260319T140032Z
LAST-MODIFIED:20260319T140032Z
UID:10020211-1777051800-1777055400@56fss.com
SUMMARY:Luke AFB Self-Care Day
DESCRIPTION:Date April 24th\, 2026 \nTime: 17:30-18:30 \nLocation: Youth Programs \nTake a break and focus on YOU! On Friday\, April 24th\, from 5:30 PM to 6:30 PM\, we invite military-affiliated youth and their families to join us for Self-Care Day. Come experience some of the self-care practices that help parents maintain their mental health and well-being. Whether it’s relaxation techniques\, mindfulness\, or just taking time to unwind\, this event will offer a chance to recharge and focus on self-care.
URL:https://56fss.com/event/luke-afb-self-care-day/
CATEGORIES:Family
END:VEVENT
BEGIN:VEVENT
DTSTART;TZID=UTC:20260425T080000
DTEND;TZID=UTC:20260425T170000
DTSTAMP:20260423T145042
CREATED:20260313T152612Z
LAST-MODIFIED:20260313T152612Z
UID:10020182-1777104000-1777136400@56fss.com
SUMMARY:Warhammer
DESCRIPTION:Date: 4th Saturday of the Month \nTime: 1100 \nLocation: Library \nAudience: Airmen and Airmen in the Dorms \nDetails: Warhammer is coming to Fighter Country!  The best hobby in the world is waiting for you. \nFor more information\, contact the library.\nwarhammer.com
URL:https://56fss.com/event/warhammer/
LOCATION:Luke AFB Library
CATEGORIES:Family,Fun
END:VEVENT
BEGIN:VEVENT
DTSTART;TZID=UTC:20260425T090000
DTEND;TZID=UTC:20260425T124500
DTSTAMP:20260423T145042
CREATED:20251121T205131Z
LAST-MODIFIED:20251208T211752Z
UID:10019192-1777107600-1777121100@56fss.com
SUMMARY:Papago Park Trail Run/Hike
DESCRIPTION:Date: 25 April 2026 \nTime: 0900 – 1245 \nLocation: 625 N Galvin Pkwy\, Phoenix\, AZ 85008 \nParticipants: Open to anyone with base access \nPrice: $25 per person \nRegistration Start: 1 March 2026 \nRegistration End: 22 April 2026 *No refund will be given after 20 April 2026 \nDescription: Papago Park is a hilly desert park covering 1500 acres in Phoenix and Tempe. It’s a great spot for running and hiking\, featuring a combination of paved and non-paved trails\, moderately hilly. Bring snacks/water.
URL:https://56fss.com/event/papago-park-trail-run-hike/
CATEGORIES:Fun
END:VEVENT
BEGIN:VEVENT
DTSTART;TZID=UTC:20260425T100000
DTEND;TZID=UTC:20260425T110000
DTSTAMP:20260423T145042
CREATED:20250127T190603Z
LAST-MODIFIED:20251104T155849Z
UID:10018163-1777111200-1777114800@56fss.com
SUMMARY:Scale Modeling Club
DESCRIPTION:Scale Modeling Club-Ongoing \nDate: 4th Saturday of the Month \nLocation: Library \nTime: 10am \nDescription: Have you ever built a scale model or thought that you might like to?  Do you enjoy the “Planes of Luke” display at the library?  The club meets the 4th Saturday of every month.  No previous experience needed\, we will teach you!
URL:https://56fss.com/event/scale-modeling-club/2026-04-25/
END:VEVENT
BEGIN:VEVENT
DTSTART;TZID=UTC:20260425T103000
DTEND;TZID=UTC:20260425T120000
DTSTAMP:20260423T145042
CREATED:20241024T151341Z
LAST-MODIFIED:20251104T155811Z
UID:10018164-1777113000-1777118400@56fss.com
SUMMARY:Paws 2 Read
DESCRIPTION:Paws 2 Read is an on-going program which allows children to read aloud to therapy dogs in order to improve reading skills and encouraging a love of reading while fostering a love for canine companions.
URL:https://56fss.com/event/paws-2-read/2026-04-25/
CATEGORIES:Fun
END:VEVENT
BEGIN:VEVENT
DTSTART;TZID=UTC:20260425T140000
DTEND;TZID=UTC:20260425T153000
DTSTAMP:20260423T145042
CREATED:20260313T151854Z
LAST-MODIFIED:20260326T171120Z
UID:10020181-1777125600-1777131000@56fss.com
SUMMARY:Saturday Crafternoons
DESCRIPTION:Date: 25 April 2026 \nTime: 1400-1530 \nLocation: Library | Makerspace \nDetails: Bring your own project or learn something new.  Hosted by Amanda.  Call the library for details of upcoming workshops.
URL:https://56fss.com/event/saturday-crafternoons/2026-04-25/
LOCATION:Luke AFB Library
CATEGORIES:Family
END:VEVENT
BEGIN:VEVENT
DTSTART;TZID=UTC:20260425T190000
DTEND;TZID=UTC:20260425T210000
DTSTAMP:20260423T145042
CREATED:20251211T074732Z
LAST-MODIFIED:20260318T170548Z
UID:10019717-1777143600-1777150800@56fss.com
SUMMARY:MOMC Glow Run
DESCRIPTION:Date: 25 April 2026 \nTime: 1900 – 21:00 \nLocation: Bryant Fitness Center \nDetails: Bryant Fitness Center and Youth Programs are teaming up for the Month of Military Child Glow run \nStart time is tentative; the event will begin as it gets dark. \nAges 5-6 * one lap \n        7-8 * two laps\n        9-18 * four laps\nRunners receive a free t-shirt\nYouth can run alone or with a parent
URL:https://56fss.com/event/momc-fun-run/
LOCATION:Bryant Fitness Center\, 14053 W Shooting Star St\, Glendale\, AZ\, United States
CATEGORIES:Family,Fitness
END:VEVENT
END:VCALENDAR